{"text_format":"1","workbook":"xlsx","n_sheets":1,"sheets":["OBS Données départementale"],"not_rendered":{"charts":0,"images":0,"macros":0,"external_links":1,"defined_names":64,"comments":0,"pivot_tables":0},"unopened":[],"bounds":{"document_bytes":16777216,"sheet_cells":100000,"rows_first":2000,"rows_last":500,"rows_between":2000,"halvings":0,"cell_chars":16384,"cell_head_chars":4096},"cells_cut":0,"cells_raw":0,"read":"whole","date_system":"1900"}

{"sheet":"OBS Données départementale","index":0,"n_rows":114,"n_cols":25,"rows_kept":114,"cut":false,"hidden":false,"merged":[[113,0,113,2],[4,17,4,18],[4,19,4,20],[4,21,4,22],[4,23,4,24],[6,0,102,0],[103,0,112,0],[3,1,3,2],[3,3,3,8],[3,10,3,15],[3,17,3,24],[4,3,4,4],[4,5,4,6],[4,7,4,8],[4,10,4,11],[4,12,4,13],[4,14,4,15]]}
[null,null,"\"Support \": infrastructure supportant une ou plusieurs antennes"]
[null,null,"\"En service\" : sites déclarés en service sur la base des déclarations des opérateurs mobiles à l'ANFR"]
[]
[null,{"$f":"\"Au \"&TEXT('[1]MODE EMPLOI & EVOLUTIONS'!E1,\"jj mmmm aaaa\")","v":"Au 01 juillet 2015"},null,"Synthèse des autorisations et \nmises en service 2G",null,null,null,null,null,null,"Synthèse des autorisations et \nmises en service 3G",null,null,null,null,null,null,"Synthèse des autorisations \net mises en service 4G"]
[null,null,null,"GSM 1800",null,"GSM 900",null,"Supports 2G",null,null,"UMTS 2100",null,"UMTS 900",null,"Supports 3G",null,null," LTE 2600 GHz",null," LTE 1800 MHz",null,"LTE 800 MHz",null,"Supports 4G"]
[null,"Num","NOM","Accord \nANFR","En \nservice","Accord \nANFR","En \nservice","Accord \nANFR","En \nservice",null,"Accord \nANFR","En \nservice","Accord \nANFR","En \nservice","Accord \nANFR","En \nservice",null,"Accord \nANFR","En \nservice","Accord \nANFR","En \nservice","Accord \nANFR","En \nservice","Accord \nANFR","En \nservice"]
["METROPOLE",1,"Ain",{"$f":"'[1]Données reclassées 2G'!P3","v":137},{"$f":"'[1]Données reclassées 2G'!Q3","v":136},{"$f":"'[1]Données reclassées 2G'!Z3","v":378},{"$f":"'[1]Données reclassées 2G'!AA3","v":374},{"$f":"'[1]Données reclassées 2G'!AB3","v":412},{"$f":"'[1]Données reclassées 2G'!AC3","v":408},null,{"$f":"'[1]Données reclassées 3G '!P3","v":355},{"$f":"'[1]Données reclassées 3G '!Q3","v":340},{"$f":"'[1]Données reclassées 3G '!Z3","v":216},{"$f":"'[1]Données reclassées 3G '!AA3","v":164},{"$f":"'[1]Données reclassées 3G '!AB3","v":408},{"$f":"'[1]Données reclassées 3G '!AC3","v":388},null,{"$f":"'[1]Données reclassées 4G'!P3","v":99},{"$f":"'[1]Données reclassées 4G'!Q3","v":61},{"$f":"'[1]Données reclassées 4G'!T3","v":39},{"$f":"'[1]Données reclassées 4G'!U3","v":32},{"$f":"'[1]Données reclassées 4G'!AB3","v":88},{"$f":"'[1]Données reclassées 4G'!AC3","v":73},{"$f":"'[1]Données reclassées 4G'!AD3","v":174},{"$f":"'[1]Données reclassées 4G'!AE3","v":133}]
[null,2,"Aisne",{"$f":"'[1]Données reclassées 2G'!P4","v":79},{"$f":"'[1]Données reclassées 2G'!Q4","v":78},{"$f":"'[1]Données reclassées 2G'!Z4","v":298},{"$f":"'[1]Données reclassées 2G'!AA4","v":285},{"$f":"'[1]Données reclassées 2G'!AB4","v":322},{"$f":"'[1]Données reclassées 2G'!AC4","v":308},null,{"$f":"'[1]Données reclassées 3G '!P4","v":232},{"$f":"'[1]Données reclassées 3G '!Q4","v":223},{"$f":"'[1]Données reclassées 3G '!Z4","v":228},{"$f":"'[1]Données reclassées 3G '!AA4","v":208},{"$f":"'[1]Données reclassées 3G '!AB4","v":323},{"$f":"'[1]Données reclassées 3G '!AC4","v":303},null,{"$f":"'[1]Données reclassées 4G'!P4","v":76},{"$f":"'[1]Données reclassées 4G'!Q4","v":64},{"$f":"'[1]Données reclassées 4G'!T4","v":30},{"$f":"'[1]Données reclassées 4G'!U4","v":26},{"$f":"'[1]Données reclassées 4G'!AB4","v":48},{"$f":"'[1]Données reclassées 4G'!AC4","v":38},{"$f":"'[1]Données reclassées 4G'!AD4","v":123},{"$f":"'[1]Données reclassées 4G'!AE4","v":104}]
[null,3,"Allier",{"$f":"'[1]Données reclassées 2G'!P5","v":64},{"$f":"'[1]Données reclassées 2G'!Q5","v":62},{"$f":"'[1]Données reclassées 2G'!Z5","v":235},{"$f":"'[1]Données reclassées 2G'!AA5","v":234},{"$f":"'[1]Données reclassées 2G'!AB5","v":252},{"$f":"'[1]Données reclassées 2G'!AC5","v":250},null,{"$f":"'[1]Données reclassées 3G '!P5","v":162},{"$f":"'[1]Données reclassées 3G '!Q5","v":154},{"$f":"'[1]Données reclassées 3G '!Z5","v":168},{"$f":"'[1]Données reclassées 3G '!AA5","v":149},{"$f":"'[1]Données reclassées 3G '!AB5","v":258},{"$f":"'[1]Données reclassées 3G '!AC5","v":242},null,{"$f":"'[1]Données reclassées 4G'!P5","v":54},{"$f":"'[1]Données reclassées 4G'!Q5","v":34},{"$f":"'[1]Données reclassées 4G'!T5","v":18},{"$f":"'[1]Données reclassées 4G'!U5","v":14},{"$f":"'[1]Données reclassées 4G'!AB5","v":32},{"$f":"'[1]Données reclassées 4G'!AC5","v":29},{"$f":"'[1]Données reclassées 4G'!AD5","v":87},{"$f":"'[1]Données reclassées 4G'!AE5","v":67}]
[null,4,"Alpes-de-Haute-Provence",{"$f":"'[1]Données reclassées 2G'!P6","v":41},{"$f":"'[1]Données reclassées 2G'!Q6","v":40},{"$f":"'[1]Données reclassées 2G'!Z6","v":181},{"$f":"'[1]Données reclassées 2G'!AA6","v":178},{"$f":"'[1]Données reclassées 2G'!AB6","v":189},{"$f":"'[1]Données reclassées 2G'!AC6","v":186},null,{"$f":"'[1]Données reclassées 3G '!P6","v":87},{"$f":"'[1]Données reclassées 3G '!Q6","v":87},{"$f":"'[1]Données reclassées 3G '!Z6","v":103},{"$f":"'[1]Données reclassées 3G '!AA6","v":79},{"$f":"'[1]Données reclassées 3G '!AB6","v":156},{"$f":"'[1]Données reclassées 3G '!AC6","v":134},null,{"$f":"'[1]Données reclassées 4G'!P6","v":30},{"$f":"'[1]Données reclassées 4G'!Q6","v":23},{"$f":"'[1]Données reclassées 4G'!T6","v":4},{"$f":"'[1]Données reclassées 4G'!U6","v":1},{"$f":"'[1]Données reclassées 4G'!AB6","v":11},{"$f":"'[1]Données reclassées 4G'!AC6","v":9},{"$f":"'[1]Données reclassées 4G'!AD6","v":36},{"$f":"'[1]Données reclassées 4G'!AE6","v":29}]
[null,5,"Hautes-Alpes",{"$f":"'[1]Données reclassées 2G'!P7","v":59},{"$f":"'[1]Données reclassées 2G'!Q7","v":56},{"$f":"'[1]Données reclassées 2G'!Z7","v":158},{"$f":"'[1]Données reclassées 2G'!AA7","v":157},{"$f":"'[1]Données reclassées 2G'!AB7","v":170},{"$f":"'[1]Données reclassées 2G'!AC7","v":168},null,{"$f":"'[1]Données reclassées 3G '!P7","v":111},{"$f":"'[1]Données reclassées 3G '!Q7","v":104},{"$f":"'[1]Données reclassées 3G '!Z7","v":76},{"$f":"'[1]Données reclassées 3G '!AA7","v":54},{"$f":"'[1]Données reclassées 3G '!AB7","v":155},{"$f":"'[1]Données reclassées 3G '!AC7","v":136},null,{"$f":"'[1]Données reclassées 4G'!P7","v":31},{"$f":"'[1]Données reclassées 4G'!Q7","v":18},{"$f":"'[1]Données reclassées 4G'!T7","v":14},{"$f":"'[1]Données reclassées 4G'!U7","v":14},{"$f":"'[1]Données reclassées 4G'!AB7","v":18},{"$f":"'[1]Données reclassées 4G'!AC7","v":15},{"$f":"'[1]Données reclassées 4G'!AD7","v":48},{"$f":"'[1]Données reclassées 4G'!AE7","v":38}]
[null,6,"Alpes-Maritimes",{"$f":"'[1]Données reclassées 2G'!P8","v":552},{"$f":"'[1]Données reclassées 2G'!Q8","v":535},{"$f":"'[1]Données reclassées 2G'!Z8","v":847},{"$f":"'[1]Données reclassées 2G'!AA8","v":819},{"$f":"'[1]Données reclassées 2G'!AB8","v":968},{"$f":"'[1]Données reclassées 2G'!AC8","v":943},null,{"$f":"'[1]Données reclassées 3G '!P8","v":912},{"$f":"'[1]Données reclassées 3G '!Q8","v":876},{"$f":"'[1]Données reclassées 3G '!Z8","v":644},{"$f":"'[1]Données reclassées 3G '!AA8","v":444},{"$f":"'[1]Données reclassées 3G '!AB8","v":957},{"$f":"'[1]Données reclassées 3G '!AC8","v":916},null,{"$f":"'[1]Données reclassées 4G'!P8","v":312},{"$f":"'[1]Données reclassées 4G'!Q8","v":261},{"$f":"'[1]Données reclassées 4G'!T8","v":197},{"$f":"'[1]Données reclassées 4G'!U8","v":185},{"$f":"'[1]Données reclassées 4G'!AB8","v":474},{"$f":"'[1]Données reclassées 4G'!AC8","v":416},{"$f":"'[1]Données reclassées 4G'!AD8","v":642},{"$f":"'[1]Données reclassées 4G'!AE8","v":578}]
[null,7,"Ardèche",{"$f":"'[1]Données reclassées 2G'!P9","v":38},{"$f":"'[1]Données reclassées 2G'!Q9","v":37},{"$f":"'[1]Données reclassées 2G'!Z9","v":230},{"$f":"'[1]Données reclassées 2G'!AA9","v":228},{"$f":"'[1]Données reclassées 2G'!AB9","v":234},{"$f":"'[1]Données reclassées 2G'!AC9","v":232},null,{"$f":"'[1]Données reclassées 3G '!P9","v":136},{"$f":"'[1]Données reclassées 3G '!Q9","v":125},{"$f":"'[1]Données reclassées 3G '!Z9","v":142},{"$f":"'[1]Données reclassées 3G '!AA9","v":104},{"$f":"'[1]Données reclassées 3G '!AB9","v":195},{"$f":"'[1]Données reclassées 3G '!AC9","v":175},null,{"$f":"'[1]Données reclassées 4G'!P9","v":54},{"$f":"'[1]Données reclassées 4G'!Q9","v":28},{"$f":"'[1]Données reclassées 4G'!T9","v":16},{"$f":"'[1]Données reclassées 4G'!U9","v":5},{"$f":"'[1]Données reclassées 4G'!AB9","v":10},{"$f":"'[1]Données reclassées 4G'!AC9","v":10},{"$f":"'[1]Données reclassées 4G'!AD9","v":60},{"$f":"'[1]Données reclassées 4G'!AE9","v":31}]
[null,8,"Ardennes",{"$f":"'[1]Données reclassées 2G'!P10","v":47},{"$f":"'[1]Données reclassées 2G'!Q10","v":47},{"$f":"'[1]Données reclassées 2G'!Z10","v":170},{"$f":"'[1]Données reclassées 2G'!AA10","v":164},{"$f":"'[1]Données reclassées 2G'!AB10","v":183},{"$f":"'[1]Données reclassées 2G'!AC10","v":177},null,{"$f":"'[1]Données reclassées 3G '!P10","v":139},{"$f":"'[1]Données reclassées 3G '!Q10","v":131},{"$f":"'[1]Données reclassées 3G '!Z10","v":92},{"$f":"'[1]Données reclassées 3G '!AA10","v":83},{"$f":"'[1]Données reclassées 3G '!AB10","v":181},{"$f":"'[1]Données reclassées 3G '!AC10","v":165},null,{"$f":"'[1]Données reclassées 4G'!P10","v":38},{"$f":"'[1]Données reclassées 4G'!Q10","v":32},{"$f":"'[1]Données reclassées 4G'!T10","v":6},{"$f":"'[1]Données reclassées 4G'!U10","v":5},{"$f":"'[1]Données reclassées 4G'!AB10","v":25},{"$f":"'[1]Données reclassées 4G'!AC10","v":20},{"$f":"'[1]Données reclassées 4G'!AD10","v":50},{"$f":"'[1]Données reclassées 4G'!AE10","v":45}]
[null,9,"Ariège",{"$f":"'[1]Données reclassées 2G'!P11","v":33},{"$f":"'[1]Données reclassées 2G'!Q11","v":29},{"$f":"'[1]Données reclassées 2G'!Z11","v":138},{"$f":"'[1]Données reclassées 2G'!AA11","v":127},{"$f":"'[1]Données reclassées 2G'!AB11","v":152},{"$f":"'[1]Données reclassées 2G'!AC11","v":139},null,{"$f":"'[1]Données reclassées 3G '!P11","v":61},{"$f":"'[1]Données reclassées 3G '!Q11","v":60},{"$f":"'[1]Données reclassées 3G '!Z11","v":85},{"$f":"'[1]Données reclassées 3G '!AA11","v":75},{"$f":"'[1]Données reclassées 3G '!AB11","v":116},{"$f":"'[1]Données reclassées 3G '!AC11","v":106},null,{"$f":"'[1]Données reclassées 4G'!P11","v":18},{"$f":"'[1]Données reclassées 4G'!Q11","v":13},{"$f":"'[1]Données reclassées 4G'!T11","v":6},{"$f":"'[1]Données reclassées 4G'!U11","v":5},{"$f":"'[1]Données reclassées 4G'!AB11","v":7},{"$f":"'[1]Données reclassées 4G'!AC11","v":4},{"$f":"'[1]Données reclassées 4G'!AD11","v":23},{"$f":"'[1]Données reclassées 4G'!AE11","v":18}]
[null,10,"Aube",{"$f":"'[1]Données reclassées 2G'!P12","v":76},{"$f":"'[1]Données reclassées 2G'!Q12","v":74},{"$f":"'[1]Données reclassées 2G'!Z12","v":185},{"$f":"'[1]Données reclassées 2G'!AA12","v":182},{"$f":"'[1]Données reclassées 2G'!AB12","v":198},{"$f":"'[1]Données reclassées 2G'!AC12","v":194},null,{"$f":"'[1]Données reclassées 3G '!P12","v":136},{"$f":"'[1]Données reclassées 3G '!Q12","v":132},{"$f":"'[1]Données reclassées 3G '!Z12","v":152},{"$f":"'[1]Données reclassées 3G '!AA12","v":135},{"$f":"'[1]Données reclassées 3G '!AB12","v":199},{"$f":"'[1]Données reclassées 3G '!AC12","v":182},null,{"$f":"'[1]Données reclassées 4G'!P12","v":42},{"$f":"'[1]Données reclassées 4G'!Q12","v":26},{"$f":"'[1]Données reclassées 4G'!T12","v":26},{"$f":"'[1]Données reclassées 4G'!U12","v":26},{"$f":"'[1]Données reclassées 4G'!AB12","v":21},{"$f":"'[1]Données reclassées 4G'!AC12","v":21},{"$f":"'[1]Données reclassées 4G'!AD12","v":68},{"$f":"'[1]Données reclassées 4G'!AE12","v":58}]
[null,11,"Aude",{"$f":"'[1]Données reclassées 2G'!P13","v":89},{"$f":"'[1]Données reclassées 2G'!Q13","v":84},{"$f":"'[1]Données reclassées 2G'!Z13","v":307},{"$f":"'[1]Données reclassées 2G'!AA13","v":297},{"$f":"'[1]Données reclassées 2G'!AB13","v":321},{"$f":"'[1]Données reclassées 2G'!AC13","v":311},null,{"$f":"'[1]Données reclassées 3G '!P13","v":221},{"$f":"'[1]Données reclassées 3G '!Q13","v":208},{"$f":"'[1]Données reclassées 3G '!Z13","v":204},{"$f":"'[1]Données reclassées 3G '!AA13","v":140},{"$f":"'[1]Données reclassées 3G '!AB13","v":301},{"$f":"'[1]Données reclassées 3G '!AC13","v":259},null,{"$f":"'[1]Données reclassées 4G'!P13","v":74},{"$f":"'[1]Données reclassées 4G'!Q13","v":49},{"$f":"'[1]Données reclassées 4G'!T13","v":34},{"$f":"'[1]Données reclassées 4G'!U13","v":31},{"$f":"'[1]Données reclassées 4G'!AB13","v":26},{"$f":"'[1]Données reclassées 4G'!AC13","v":22},{"$f":"'[1]Données reclassées 4G'!AD13","v":110},{"$f":"'[1]Données reclassées 4G'!AE13","v":85}]
[null,12,"Aveyron",{"$f":"'[1]Données reclassées 2G'!P14","v":51},{"$f":"'[1]Données reclassées 2G'!Q14","v":48},{"$f":"'[1]Données reclassées 2G'!Z14","v":284},{"$f":"'[1]Données reclassées 2G'!AA14","v":271},{"$f":"'[1]Données reclassées 2G'!AB14","v":300},{"$f":"'[1]Données reclassées 2G'!AC14","v":286},null,{"$f":"'[1]Données reclassées 3G '!P14","v":104},{"$f":"'[1]Données reclassées 3G '!Q14","v":94},{"$f":"'[1]Données reclassées 3G '!Z14","v":209},{"$f":"'[1]Données reclassées 3G '!AA14","v":183},{"$f":"'[1]Données reclassées 3G '!AB14","v":250},{"$f":"'[1]Données reclassées 3G '!AC14","v":221},null,{"$f":"'[1]Données reclassées 4G'!P14","v":41},{"$f":"'[1]Données reclassées 4G'!Q14","v":26},{"$f":"'[1]Données reclassées 4G'!T14","v":19},{"$f":"'[1]Données reclassées 4G'!U14","v":14},{"$f":"'[1]Données reclassées 4G'!AB14","v":14},{"$f":"'[1]Données reclassées 4G'!AC14","v":10},{"$f":"'[1]Données reclassées 4G'!AD14","v":57},{"$f":"'[1]Données reclassées 4G'!AE14","v":41}]
[null,13,"Bouches-du-Rhône",{"$f":"'[1]Données reclassées 2G'!P15","v":793},{"$f":"'[1]Données reclassées 2G'!Q15","v":755},{"$f":"'[1]Données reclassées 2G'!Z15","v":1215},{"$f":"'[1]Données reclassées 2G'!AA15","v":1155},{"$f":"'[1]Données reclassées 2G'!AB15","v":1359},{"$f":"'[1]Données reclassées 2G'!AC15","v":1321},null,{"$f":"'[1]Données reclassées 3G '!P15","v":1386},{"$f":"'[1]Données reclassées 3G '!Q15","v":1318},{"$f":"'[1]Données reclassées 3G '!Z15","v":1078},{"$f":"'[1]Données reclassées 3G '!AA15","v":819},{"$f":"'[1]Données reclassées 3G '!AB15","v":1438},{"$f":"'[1]Données reclassées 3G '!AC15","v":1353},null,{"$f":"'[1]Données reclassées 4G'!P15","v":668},{"$f":"'[1]Données reclassées 4G'!Q15","v":564},{"$f":"'[1]Données reclassées 4G'!T15","v":352},{"$f":"'[1]Données reclassées 4G'!U15","v":331},{"$f":"'[1]Données reclassées 4G'!AB15","v":720},{"$f":"'[1]Données reclassées 4G'!AC15","v":637},{"$f":"'[1]Données reclassées 4G'!AD15","v":1063},{"$f":"'[1]Données reclassées 4G'!AE15","v":964}]
[null,14,"Calvados",{"$f":"'[1]Données reclassées 2G'!P16","v":182},{"$f":"'[1]Données reclassées 2G'!Q16","v":173},{"$f":"'[1]Données reclassées 2G'!Z16","v":326},{"$f":"'[1]Données reclassées 2G'!AA16","v":319},{"$f":"'[1]Données reclassées 2G'!AB16","v":367},{"$f":"'[1]Données reclassées 2G'!AC16","v":358},null,{"$f":"'[1]Données reclassées 3G '!P16","v":325},{"$f":"'[1]Données reclassées 3G '!Q16","v":317},{"$f":"'[1]Données reclassées 3G '!Z16","v":159},{"$f":"'[1]Données reclassées 3G '!AA16","v":136},{"$f":"'[1]Données reclassées 3G '!AB16","v":380},{"$f":"'[1]Données reclassées 3G '!AC16","v":370},null,{"$f":"'[1]Données reclassées 4G'!P16","v":109},{"$f":"'[1]Données reclassées 4G'!Q16","v":79},{"$f":"'[1]Données reclassées 4G'!T16","v":65},{"$f":"'[1]Données reclassées 4G'!U16","v":63},{"$f":"'[1]Données reclassées 4G'!AB16","v":62},{"$f":"'[1]Données reclassées 4G'!AC16","v":50},{"$f":"'[1]Données reclassées 4G'!AD16","v":180},{"$f":"'[1]Données reclassées 4G'!AE16","v":153}]
[null,15,"Cantal",{"$f":"'[1]Données reclassées 2G'!P17","v":22},{"$f":"'[1]Données reclassées 2G'!Q17","v":20},{"$f":"'[1]Données reclassées 2G'!Z17","v":160},{"$f":"'[1]Données reclassées 2G'!AA17","v":155},{"$f":"'[1]Données reclassées 2G'!AB17","v":166},{"$f":"'[1]Données reclassées 2G'!AC17","v":160},null,{"$f":"'[1]Données reclassées 3G '!P17","v":54},{"$f":"'[1]Données reclassées 3G '!Q17","v":45},{"$f":"'[1]Données reclassées 3G '!Z17","v":118},{"$f":"'[1]Données reclassées 3G '!AA17","v":107},{"$f":"'[1]Données reclassées 3G '!AB17","v":143},{"$f":"'[1]Données reclassées 3G '!AC17","v":131},null,{"$f":"'[1]Données reclassées 4G'!P17","v":27},{"$f":"'[1]Données reclassées 4G'!Q17","v":11},{"$f":"'[1]Données reclassées 4G'!T17","v":2},{"$f":"'[1]Données reclassées 4G'!U17","v":2},{"$f":"'[1]Données reclassées 4G'!AB17","v":6},{"$f":"'[1]Données reclassées 4G'!AC17","v":6},{"$f":"'[1]Données reclassées 4G'!AD17","v":31},{"$f":"'[1]Données reclassées 4G'!AE17","v":17}]
[null,16,"Charente",{"$f":"'[1]Données reclassées 2G'!P18","v":73},{"$f":"'[1]Données reclassées 2G'!Q18","v":73},{"$f":"'[1]Données reclassées 2G'!Z18","v":220},{"$f":"'[1]Données reclassées 2G'!AA18","v":218},{"$f":"'[1]Données reclassées 2G'!AB18","v":237},{"$f":"'[1]Données reclassées 2G'!AC18","v":235},null,{"$f":"'[1]Données reclassées 3G '!P18","v":137},{"$f":"'[1]Données reclassées 3G '!Q18","v":131},{"$f":"'[1]Données reclassées 3G '!Z18","v":187},{"$f":"'[1]Données reclassées 3G '!AA18","v":179},{"$f":"'[1]Données reclassées 3G '!AB18","v":229},{"$f":"'[1]Données reclassées 3G '!AC18","v":222},null,{"$f":"'[1]Données reclassées 4G'!P18","v":62},{"$f":"'[1]Données reclassées 4G'!Q18","v":44},{"$f":"'[1]Données reclassées 4G'!T18","v":24},{"$f":"'[1]Données reclassées 4G'!U18","v":21},{"$f":"'[1]Données reclassées 4G'!AB18","v":21},{"$f":"'[1]Données reclassées 4G'!AC18","v":16},{"$f":"'[1]Données reclassées 4G'!AD18","v":81},{"$f":"'[1]Données reclassées 4G'!AE18","v":64}]
[null,17,"Charente-Maritime",{"$f":"'[1]Données reclassées 2G'!P19","v":173},{"$f":"'[1]Données reclassées 2G'!Q19","v":167},{"$f":"'[1]Données reclassées 2G'!Z19","v":325},{"$f":"'[1]Données reclassées 2G'!AA19","v":319},{"$f":"'[1]Données reclassées 2G'!AB19","v":351},{"$f":"'[1]Données reclassées 2G'!AC19","v":345},null,{"$f":"'[1]Données reclassées 3G '!P19","v":262},{"$f":"'[1]Données reclassées 3G '!Q19","v":248},{"$f":"'[1]Données reclassées 3G '!Z19","v":195},{"$f":"'[1]Données reclassées 3G '!AA19","v":184},{"$f":"'[1]Données reclassées 3G '!AB19","v":344},{"$f":"'[1]Données reclassées 3G '!AC19","v":334},null,{"$f":"'[1]Données reclassées 4G'!P19","v":91},{"$f":"'[1]Données reclassées 4G'!Q19","v":51},{"$f":"'[1]Données reclassées 4G'!T19","v":81},{"$f":"'[1]Données reclassées 4G'!U19","v":78},{"$f":"'[1]Données reclassées 4G'!AB19","v":53},{"$f":"'[1]Données reclassées 4G'!AC19","v":40},{"$f":"'[1]Données reclassées 4G'!AD19","v":153},{"$f":"'[1]Données reclassées 4G'!AE19","v":121}]
[null,18,"Cher",{"$f":"'[1]Données reclassées 2G'!P20","v":58},{"$f":"'[1]Données reclassées 2G'!Q20","v":54},{"$f":"'[1]Données reclassées 2G'!Z20","v":204},{"$f":"'[1]Données reclassées 2G'!AA20","v":199},{"$f":"'[1]Données reclassées 2G'!AB20","v":215},{"$f":"'[1]Données reclassées 2G'!AC20","v":209},null,{"$f":"'[1]Données reclassées 3G '!P20","v":136},{"$f":"'[1]Données reclassées 3G '!Q20","v":128},{"$f":"'[1]Données reclassées 3G '!Z20","v":147},{"$f":"'[1]Données reclassées 3G '!AA20","v":133},{"$f":"'[1]Données reclassées 3G '!AB20","v":208},{"$f":"'[1]Données reclassées 3G '!AC20","v":198},null,{"$f":"'[1]Données reclassées 4G'!P20","v":26},{"$f":"'[1]Données reclassées 4G'!Q20","v":18},{"$f":"'[1]Données reclassées 4G'!T20","v":34},{"$f":"'[1]Données reclassées 4G'!U20","v":32},{"$f":"'[1]Données reclassées 4G'!AB20","v":30},{"$f":"'[1]Données reclassées 4G'!AC20","v":27},{"$f":"'[1]Données reclassées 4G'!AD20","v":73},{"$f":"'[1]Données reclassées 4G'!AE20","v":67}]
[null,19,"Corrèze",{"$f":"'[1]Données reclassées 2G'!P21","v":49},{"$f":"'[1]Données reclassées 2G'!Q21","v":49},{"$f":"'[1]Données reclassées 2G'!Z21","v":212},{"$f":"'[1]Données reclassées 2G'!AA21","v":208},{"$f":"'[1]Données reclassées 2G'!AB21","v":233},{"$f":"'[1]Données reclassées 2G'!AC21","v":229},null,{"$f":"'[1]Données reclassées 3G '!P21","v":128},{"$f":"'[1]Données reclassées 3G '!Q21","v":118},{"$f":"'[1]Données reclassées 3G '!Z21","v":161},{"$f":"'[1]Données reclassées 3G '!AA21","v":147},{"$f":"'[1]Données reclassées 3G '!AB21","v":218},{"$f":"'[1]Données reclassées 3G '!AC21","v":202},null,{"$f":"'[1]Données reclassées 4G'!P21","v":42},{"$f":"'[1]Données reclassées 4G'!Q21","v":26},{"$f":"'[1]Données reclassées 4G'!T21","v":20},{"$f":"'[1]Données reclassées 4G'!U21","v":19},{"$f":"'[1]Données reclassées 4G'!AB21","v":14},{"$f":"'[1]Données reclassées 4G'!AC21","v":13},{"$f":"'[1]Données reclassées 4G'!AD21","v":58},{"$f":"'[1]Données reclassées 4G'!AE21","v":46}]
[null,"2A","Corse-du-Sud",{"$f":"'[1]Données reclassées 2G'!P22","v":85},{"$f":"'[1]Données reclassées 2G'!Q22","v":76},{"$f":"'[1]Données reclassées 2G'!Z22","v":180},{"$f":"'[1]Données reclassées 2G'!AA22","v":168},{"$f":"'[1]Données reclassées 2G'!AB22","v":195},{"$f":"'[1]Données reclassées 2G'!AC22","v":183},null,{"$f":"'[1]Données reclassées 3G '!P22","v":148},{"$f":"'[1]Données reclassées 3G '!Q22","v":144},{"$f":"'[1]Données reclassées 3G '!Z22","v":65},{"$f":"'[1]Données reclassées 3G '!AA22","v":55},{"$f":"'[1]Données reclassées 3G '!AB22","v":180},{"$f":"'[1]Données reclassées 3G '!AC22","v":172},null,{"$f":"'[1]Données reclassées 4G'!P22","v":31},{"$f":"'[1]Données reclassées 4G'!Q22","v":27},{"$f":"'[1]Données reclassées 4G'!T22","v":12},{"$f":"'[1]Données reclassées 4G'!U22","v":11},{"$f":"'[1]Données reclassées 4G'!AB22","v":13},{"$f":"'[1]Données reclassées 4G'!AC22","v":12},{"$f":"'[1]Données reclassées 4G'!AD22","v":43},{"$f":"'[1]Données reclassées 4G'!AE22","v":41}]
[null,"2B","Haute-Corse",{"$f":"'[1]Données reclassées 2G'!P23","v":79},{"$f":"'[1]Données reclassées 2G'!Q23","v":72},{"$f":"'[1]Données reclassées 2G'!Z23","v":181},{"$f":"'[1]Données reclassées 2G'!AA23","v":175},{"$f":"'[1]Données reclassées 2G'!AB23","v":194},{"$f":"'[1]Données reclassées 2G'!AC23","v":188},null,{"$f":"'[1]Données reclassées 3G '!P23","v":138},{"$f":"'[1]Données reclassées 3G '!Q23","v":132},{"$f":"'[1]Données reclassées 3G '!Z23","v":78},{"$f":"'[1]Données reclassées 3G '!AA23","v":71},{"$f":"'[1]Données reclassées 3G '!AB23","v":172},{"$f":"'[1]Données reclassées 3G '!AC23","v":166},null,{"$f":"'[1]Données reclassées 4G'!P23","v":35},{"$f":"'[1]Données reclassées 4G'!Q23","v":25},{"$f":"'[1]Données reclassées 4G'!T23","v":10},{"$f":"'[1]Données reclassées 4G'!U23","v":9},{"$f":"'[1]Données reclassées 4G'!AB23","v":14},{"$f":"'[1]Données reclassées 4G'!AC23","v":14},{"$f":"'[1]Données reclassées 4G'!AD23","v":46},{"$f":"'[1]Données reclassées 4G'!AE23","v":36}]
[null,21,"Côte-d'Or",{"$f":"'[1]Données reclassées 2G'!P24","v":160},{"$f":"'[1]Données reclassées 2G'!Q24","v":156},{"$f":"'[1]Données reclassées 2G'!Z24","v":457},{"$f":"'[1]Données reclassées 2G'!AA24","v":450},{"$f":"'[1]Données reclassées 2G'!AB24","v":486},{"$f":"'[1]Données reclassées 2G'!AC24","v":479},null,{"$f":"'[1]Données reclassées 3G '!P24","v":274},{"$f":"'[1]Données reclassées 3G '!Q24","v":260},{"$f":"'[1]Données reclassées 3G '!Z24","v":331},{"$f":"'[1]Données reclassées 3G '!AA24","v":287},{"$f":"'[1]Données reclassées 3G '!AB24","v":407},{"$f":"'[1]Données reclassées 3G '!AC24","v":373},null,{"$f":"'[1]Données reclassées 4G'!P24","v":103},{"$f":"'[1]Données reclassées 4G'!Q24","v":52},{"$f":"'[1]Données reclassées 4G'!T24","v":53},{"$f":"'[1]Données reclassées 4G'!U24","v":41},{"$f":"'[1]Données reclassées 4G'!AB24","v":103},{"$f":"'[1]Données reclassées 4G'!AC24","v":88},{"$f":"'[1]Données reclassées 4G'!AD24","v":173},{"$f":"'[1]Données reclassées 4G'!AE24","v":133}]
[null,22,"Côte-d'Armor",{"$f":"'[1]Données reclassées 2G'!P25","v":128},{"$f":"'[1]Données reclassées 2G'!Q25","v":126},{"$f":"'[1]Données reclassées 2G'!Z25","v":332},{"$f":"'[1]Données reclassées 2G'!AA25","v":327},{"$f":"'[1]Données reclassées 2G'!AB25","v":362},{"$f":"'[1]Données reclassées 2G'!AC25","v":356},null,{"$f":"'[1]Données reclassées 3G '!P25","v":276},{"$f":"'[1]Données reclassées 3G '!Q25","v":263},{"$f":"'[1]Données reclassées 3G '!Z25","v":181},{"$f":"'[1]Données reclassées 3G '!AA25","v":155},{"$f":"'[1]Données reclassées 3G '!AB25","v":358},{"$f":"'[1]Données reclassées 3G '!AC25","v":334},null,{"$f":"'[1]Données reclassées 4G'!P25","v":108},{"$f":"'[1]Données reclassées 4G'!Q25","v":76},{"$f":"'[1]Données reclassées 4G'!T25","v":61},{"$f":"'[1]Données reclassées 4G'!U25","v":60},{"$f":"'[1]Données reclassées 4G'!AB25","v":36},{"$f":"'[1]Données reclassées 4G'!AC25","v":24},{"$f":"'[1]Données reclassées 4G'!AD25","v":146},{"$f":"'[1]Données reclassées 4G'!AE25","v":119}]
[null,23,"Creuse",{"$f":"'[1]Données reclassées 2G'!P26","v":22},{"$f":"'[1]Données reclassées 2G'!Q26","v":22},{"$f":"'[1]Données reclassées 2G'!Z26","v":122},{"$f":"'[1]Données reclassées 2G'!AA26","v":120},{"$f":"'[1]Données reclassées 2G'!AB26","v":128},{"$f":"'[1]Données reclassées 2G'!AC26","v":126},null,{"$f":"'[1]Données reclassées 3G '!P26","v":24},{"$f":"'[1]Données reclassées 3G '!Q26","v":20},{"$f":"'[1]Données reclassées 3G '!Z26","v":106},{"$f":"'[1]Données reclassées 3G '!AA26","v":90},{"$f":"'[1]Données reclassées 3G '!AB26","v":112},{"$f":"'[1]Données reclassées 3G '!AC26","v":101},null,{"$f":"'[1]Données reclassées 4G'!P26","v":11},{"$f":"'[1]Données reclassées 4G'!Q26","v":2},{"$f":"'[1]Données reclassées 4G'!T26","v":1},{"$f":"'[1]Données reclassées 4G'!U26","v":1},{"$f":"'[1]Données reclassées 4G'!AB26","v":4},{"$f":"'[1]Données reclassées 4G'!AC26","v":2},{"$f":"'[1]Données reclassées 4G'!AD26","v":13},{"$f":"'[1]Données reclassées 4G'!AE26","v":4}]
[null,24,"Dordogne",{"$f":"'[1]Données reclassées 2G'!P27","v":84},{"$f":"'[1]Données reclassées 2G'!Q27","v":84},{"$f":"'[1]Données reclassées 2G'!Z27","v":348},{"$f":"'[1]Données reclassées 2G'!AA27","v":347},{"$f":"'[1]Données reclassées 2G'!AB27","v":371},{"$f":"'[1]Données reclassées 2G'!AC27","v":370},null,{"$f":"'[1]Données reclassées 3G '!P27","v":160},{"$f":"'[1]Données reclassées 3G '!Q27","v":147},{"$f":"'[1]Données reclassées 3G '!Z27","v":299},{"$f":"'[1]Données reclassées 3G '!AA27","v":267},{"$f":"'[1]Données reclassées 3G '!AB27","v":358},{"$f":"'[1]Données reclassées 3G '!AC27","v":327},null,{"$f":"'[1]Données reclassées 4G'!P27","v":52},{"$f":"'[1]Données reclassées 4G'!Q27","v":21},{"$f":"'[1]Données reclassées 4G'!T27","v":25},{"$f":"'[1]Données reclassées 4G'!U27","v":24},{"$f":"'[1]Données reclassées 4G'!AB27","v":20},{"$f":"'[1]Données reclassées 4G'!AC27","v":17},{"$f":"'[1]Données reclassées 4G'!AD27","v":75},{"$f":"'[1]Données reclassées 4G'!AE27","v":52}]
[null,25,"Doubs",{"$f":"'[1]Données reclassées 2G'!P28","v":149},{"$f":"'[1]Données reclassées 2G'!Q28","v":142},{"$f":"'[1]Données reclassées 2G'!Z28","v":315},{"$f":"'[1]Données reclassées 2G'!AA28","v":301},{"$f":"'[1]Données reclassées 2G'!AB28","v":367},{"$f":"'[1]Données reclassées 2G'!AC28","v":350},null,{"$f":"'[1]Données reclassées 3G '!P28","v":288},{"$f":"'[1]Données reclassées 3G '!Q28","v":269},{"$f":"'[1]Données reclassées 3G '!Z28","v":156},{"$f":"'[1]Données reclassées 3G '!AA28","v":128},{"$f":"'[1]Données reclassées 3G '!AB28","v":352},{"$f":"'[1]Données reclassées 3G '!AC28","v":318},null,{"$f":"'[1]Données reclassées 4G'!P28","v":121},{"$f":"'[1]Données reclassées 4G'!Q28","v":81},{"$f":"'[1]Données reclassées 4G'!T28","v":39},{"$f":"'[1]Données reclassées 4G'!U28","v":33},{"$f":"'[1]Données reclassées 4G'!AB28","v":41},{"$f":"'[1]Données reclassées 4G'!AC28","v":27},{"$f":"'[1]Données reclassées 4G'!AD28","v":155},{"$f":"'[1]Données reclassées 4G'!AE28","v":122}]
[null,26,"Drôme",{"$f":"'[1]Données reclassées 2G'!P29","v":114},{"$f":"'[1]Données reclassées 2G'!Q29","v":113},{"$f":"'[1]Données reclassées 2G'!Z29","v":356},{"$f":"'[1]Données reclassées 2G'!AA29","v":351},{"$f":"'[1]Données reclassées 2G'!AB29","v":370},{"$f":"'[1]Données reclassées 2G'!AC29","v":365},null,{"$f":"'[1]Données reclassées 3G '!P29","v":249},{"$f":"'[1]Données reclassées 3G '!Q29","v":238},{"$f":"'[1]Données reclassées 3G '!Z29","v":266},{"$f":"'[1]Données reclassées 3G '!AA29","v":186},{"$f":"'[1]Données reclassées 3G '!AB29","v":340},{"$f":"'[1]Données reclassées 3G '!AC29","v":312},null,{"$f":"'[1]Données reclassées 4G'!P29","v":77},{"$f":"'[1]Données reclassées 4G'!Q29","v":47},{"$f":"'[1]Données reclassées 4G'!T29","v":40},{"$f":"'[1]Données reclassées 4G'!U29","v":33},{"$f":"'[1]Données reclassées 4G'!AB29","v":23},{"$f":"'[1]Données reclassées 4G'!AC29","v":22},{"$f":"'[1]Données reclassées 4G'!AD29","v":115},{"$f":"'[1]Données reclassées 4G'!AE29","v":85}]
[null,27,"Eure",{"$f":"'[1]Données reclassées 2G'!P30","v":88},{"$f":"'[1]Données reclassées 2G'!Q30","v":83},{"$f":"'[1]Données reclassées 2G'!Z30","v":275},{"$f":"'[1]Données reclassées 2G'!AA30","v":270},{"$f":"'[1]Données reclassées 2G'!AB30","v":285},{"$f":"'[1]Données reclassées 2G'!AC30","v":279},null,{"$f":"'[1]Données reclassées 3G '!P30","v":232},{"$f":"'[1]Données reclassées 3G '!Q30","v":223},{"$f":"'[1]Données reclassées 3G '!Z30","v":166},{"$f":"'[1]Données reclassées 3G '!AA30","v":143},{"$f":"'[1]Données reclassées 3G '!AB30","v":294},{"$f":"'[1]Données reclassées 3G '!AC30","v":280},null,{"$f":"'[1]Données reclassées 4G'!P30","v":64},{"$f":"'[1]Données reclassées 4G'!Q30","v":27},{"$f":"'[1]Données reclassées 4G'!T30","v":38},{"$f":"'[1]Données reclassées 4G'!U30","v":36},{"$f":"'[1]Données reclassées 4G'!AB30","v":25},{"$f":"'[1]Données reclassées 4G'!AC30","v":22},{"$f":"'[1]Données reclassées 4G'!AD30","v":99},{"$f":"'[1]Données reclassées 4G'!AE30","v":72}]
[null,28,"Eure-et-Loir",{"$f":"'[1]Données reclassées 2G'!P31","v":88},{"$f":"'[1]Données reclassées 2G'!Q31","v":82},{"$f":"'[1]Données reclassées 2G'!Z31","v":276},{"$f":"'[1]Données reclassées 2G'!AA31","v":266},{"$f":"'[1]Données reclassées 2G'!AB31","v":300},{"$f":"'[1]Données reclassées 2G'!AC31","v":290},null,{"$f":"'[1]Données reclassées 3G '!P31","v":202},{"$f":"'[1]Données reclassées 3G '!Q31","v":189},{"$f":"'[1]Données reclassées 3G '!Z31","v":178},{"$f":"'[1]Données reclassées 3G '!AA31","v":141},{"$f":"'[1]Données reclassées 3G '!AB31","v":301},{"$f":"'[1]Données reclassées 3G '!AC31","v":278},null,{"$f":"'[1]Données reclassées 4G'!P31","v":65},{"$f":"'[1]Données reclassées 4G'!Q31","v":41},{"$f":"'[1]Données reclassées 4G'!T31","v":29},{"$f":"'[1]Données reclassées 4G'!U31","v":19},{"$f":"'[1]Données reclassées 4G'!AB31","v":44},{"$f":"'[1]Données reclassées 4G'!AC31","v":32},{"$f":"'[1]Données reclassées 4G'!AD31","v":107},{"$f":"'[1]Données reclassées 4G'!AE31","v":69}]
[null,29,"Finistère",{"$f":"'[1]Données reclassées 2G'!P32","v":199},{"$f":"'[1]Données reclassées 2G'!Q32","v":192},{"$f":"'[1]Données reclassées 2G'!Z32","v":440},{"$f":"'[1]Données reclassées 2G'!AA32","v":422},{"$f":"'[1]Données reclassées 2G'!AB32","v":473},{"$f":"'[1]Données reclassées 2G'!AC32","v":454},null,{"$f":"'[1]Données reclassées 3G '!P32","v":429},{"$f":"'[1]Données reclassées 3G '!Q32","v":409},{"$f":"'[1]Données reclassées 3G '!Z32","v":282},{"$f":"'[1]Données reclassées 3G '!AA32","v":212},{"$f":"'[1]Données reclassées 3G '!AB32","v":482},{"$f":"'[1]Données reclassées 3G '!AC32","v":457},null,{"$f":"'[1]Données reclassées 4G'!P32","v":177},{"$f":"'[1]Données reclassées 4G'!Q32","v":103},{"$f":"'[1]Données reclassées 4G'!T32","v":114},{"$f":"'[1]Données reclassées 4G'!U32","v":107},{"$f":"'[1]Données reclassées 4G'!AB32","v":111},{"$f":"'[1]Données reclassées 4G'!AC32","v":64},{"$f":"'[1]Données reclassées 4G'!AD32","v":270},{"$f":"'[1]Données reclassées 4G'!AE32","v":214}]
[null,30,"Gard",{"$f":"'[1]Données reclassées 2G'!P33","v":190},{"$f":"'[1]Données reclassées 2G'!Q33","v":185},{"$f":"'[1]Données reclassées 2G'!Z33","v":427},{"$f":"'[1]Données reclassées 2G'!AA33","v":420},{"$f":"'[1]Données reclassées 2G'!AB33","v":470},{"$f":"'[1]Données reclassées 2G'!AC33","v":461},null,{"$f":"'[1]Données reclassées 3G '!P33","v":427},{"$f":"'[1]Données reclassées 3G '!Q33","v":414},{"$f":"'[1]Données reclassées 3G '!Z33","v":286},{"$f":"'[1]Données reclassées 3G '!AA33","v":235},{"$f":"'[1]Données reclassées 3G '!AB33","v":469},{"$f":"'[1]Données reclassées 3G '!AC33","v":451},null,{"$f":"'[1]Données reclassées 4G'!P33","v":132},{"$f":"'[1]Données reclassées 4G'!Q33","v":87},{"$f":"'[1]Données reclassées 4G'!T33","v":87},{"$f":"'[1]Données reclassées 4G'!U33","v":82},{"$f":"'[1]Données reclassées 4G'!AB33","v":67},{"$f":"'[1]Données reclassées 4G'!AC33","v":56},{"$f":"'[1]Données reclassées 4G'!AD33","v":230},{"$f":"'[1]Données reclassées 4G'!AE33","v":189}]
[null,31,"Haute-Garonne",{"$f":"'[1]Données reclassées 2G'!P34","v":430},{"$f":"'[1]Données reclassées 2G'!Q34","v":412},{"$f":"'[1]Données reclassées 2G'!Z34","v":697},{"$f":"'[1]Données reclassées 2G'!AA34","v":632},{"$f":"'[1]Données reclassées 2G'!AB34","v":774},{"$f":"'[1]Données reclassées 2G'!AC34","v":744},null,{"$f":"'[1]Données reclassées 3G '!P34","v":795},{"$f":"'[1]Données reclassées 3G '!Q34","v":763},{"$f":"'[1]Données reclassées 3G '!Z34","v":699},{"$f":"'[1]Données reclassées 3G '!AA34","v":604},{"$f":"'[1]Données reclassées 3G '!AB34","v":837},{"$f":"'[1]Données reclassées 3G '!AC34","v":791},null,{"$f":"'[1]Données reclassées 4G'!P34","v":500},{"$f":"'[1]Données reclassées 4G'!Q34","v":398},{"$f":"'[1]Données reclassées 4G'!T34","v":168},{"$f":"'[1]Données reclassées 4G'!U34","v":147},{"$f":"'[1]Données reclassées 4G'!AB34","v":418},{"$f":"'[1]Données reclassées 4G'!AC34","v":332},{"$f":"'[1]Données reclassées 4G'!AD34","v":603},{"$f":"'[1]Données reclassées 4G'!AE34","v":556}]
[null,32,"Gers",{"$f":"'[1]Données reclassées 2G'!P35","v":30},{"$f":"'[1]Données reclassées 2G'!Q35","v":26},{"$f":"'[1]Données reclassées 2G'!Z35","v":145},{"$f":"'[1]Données reclassées 2G'!AA35","v":142},{"$f":"'[1]Données reclassées 2G'!AB35","v":152},{"$f":"'[1]Données reclassées 2G'!AC35","v":149},null,{"$f":"'[1]Données reclassées 3G '!P35","v":79},{"$f":"'[1]Données reclassées 3G '!Q35","v":71},{"$f":"'[1]Données reclassées 3G '!Z35","v":125},{"$f":"'[1]Données reclassées 3G '!AA35","v":114},{"$f":"'[1]Données reclassées 3G '!AB35","v":148},{"$f":"'[1]Données reclassées 3G '!AC35","v":140},null,{"$f":"'[1]Données reclassées 4G'!P35","v":17},{"$f":"'[1]Données reclassées 4G'!Q35","v":8},{"$f":"'[1]Données reclassées 4G'!T35","v":9},{"$f":"'[1]Données reclassées 4G'!U35","v":9},{"$f":"'[1]Données reclassées 4G'!AB35","v":11},{"$f":"'[1]Données reclassées 4G'!AC35","v":9},{"$f":"'[1]Données reclassées 4G'!AD35","v":32},{"$f":"'[1]Données reclassées 4G'!AE35","v":23}]
[null,33,"Gironde",{"$f":"'[1]Données reclassées 2G'!P36","v":473},{"$f":"'[1]Données reclassées 2G'!Q36","v":450},{"$f":"'[1]Données reclassées 2G'!Z36","v":815},{"$f":"'[1]Données reclassées 2G'!AA36","v":760},{"$f":"'[1]Données reclassées 2G'!AB36","v":878},{"$f":"'[1]Données reclassées 2G'!AC36","v":844},null,{"$f":"'[1]Données reclassées 3G '!P36","v":849},{"$f":"'[1]Données reclassées 3G '!Q36","v":808},{"$f":"'[1]Données reclassées 3G '!Z36","v":655},{"$f":"'[1]Données reclassées 3G '!AA36","v":568},{"$f":"'[1]Données reclassées 3G '!AB36","v":918},{"$f":"'[1]Données reclassées 3G '!AC36","v":876},null,{"$f":"'[1]Données reclassées 4G'!P36","v":415},{"$f":"'[1]Données reclassées 4G'!Q36","v":287},{"$f":"'[1]Données reclassées 4G'!T36","v":256},{"$f":"'[1]Données reclassées 4G'!U36","v":230},{"$f":"'[1]Données reclassées 4G'!AB36","v":370},{"$f":"'[1]Données reclassées 4G'!AC36","v":302},{"$f":"'[1]Données reclassées 4G'!AD36","v":581},{"$f":"'[1]Données reclassées 4G'!AE36","v":527}]
[null,34,"Hérault",{"$f":"'[1]Données reclassées 2G'!P37","v":324},{"$f":"'[1]Données reclassées 2G'!Q37","v":313},{"$f":"'[1]Données reclassées 2G'!Z37","v":616},{"$f":"'[1]Données reclassées 2G'!AA37","v":598},{"$f":"'[1]Données reclassées 2G'!AB37","v":670},{"$f":"'[1]Données reclassées 2G'!AC37","v":655},null,{"$f":"'[1]Données reclassées 3G '!P37","v":616},{"$f":"'[1]Données reclassées 3G '!Q37","v":604},{"$f":"'[1]Données reclassées 3G '!Z37","v":480},{"$f":"'[1]Données reclassées 3G '!AA37","v":428},{"$f":"'[1]Données reclassées 3G '!AB37","v":668},{"$f":"'[1]Données reclassées 3G '!AC37","v":650},null,{"$f":"'[1]Données reclassées 4G'!P37","v":224},{"$f":"'[1]Données reclassées 4G'!Q37","v":196},{"$f":"'[1]Données reclassées 4G'!T37","v":134},{"$f":"'[1]Données reclassées 4G'!U37","v":129},{"$f":"'[1]Données reclassées 4G'!AB37","v":212},{"$f":"'[1]Données reclassées 4G'!AC37","v":201},{"$f":"'[1]Données reclassées 4G'!AD37","v":374},{"$f":"'[1]Données reclassées 4G'!AE37","v":353}]
[null,35,"Ille-et-Vilaine",{"$f":"'[1]Données reclassées 2G'!P38","v":227},{"$f":"'[1]Données reclassées 2G'!Q38","v":223},{"$f":"'[1]Données reclassées 2G'!Z38","v":462},{"$f":"'[1]Données reclassées 2G'!AA38","v":449},{"$f":"'[1]Données reclassées 2G'!AB38","v":527},{"$f":"'[1]Données reclassées 2G'!AC38","v":513},null,{"$f":"'[1]Données reclassées 3G '!P38","v":464},{"$f":"'[1]Données reclassées 3G '!Q38","v":435},{"$f":"'[1]Données reclassées 3G '!Z38","v":357},{"$f":"'[1]Données reclassées 3G '!AA38","v":302},{"$f":"'[1]Données reclassées 3G '!AB38","v":546},{"$f":"'[1]Données reclassées 3G '!AC38","v":517},null,{"$f":"'[1]Données reclassées 4G'!P38","v":207},{"$f":"'[1]Données reclassées 4G'!Q38","v":137},{"$f":"'[1]Données reclassées 4G'!T38","v":99},{"$f":"'[1]Données reclassées 4G'!U38","v":91},{"$f":"'[1]Données reclassées 4G'!AB38","v":142},{"$f":"'[1]Données reclassées 4G'!AC38","v":113},{"$f":"'[1]Données reclassées 4G'!AD38","v":303},{"$f":"'[1]Données reclassées 4G'!AE38","v":262}]
[null,36,"Indre",{"$f":"'[1]Données reclassées 2G'!P39","v":43},{"$f":"'[1]Données reclassées 2G'!Q39","v":41},{"$f":"'[1]Données reclassées 2G'!Z39","v":161},{"$f":"'[1]Données reclassées 2G'!AA39","v":159},{"$f":"'[1]Données reclassées 2G'!AB39","v":167},{"$f":"'[1]Données reclassées 2G'!AC39","v":165},null,{"$f":"'[1]Données reclassées 3G '!P39","v":85},{"$f":"'[1]Données reclassées 3G '!Q39","v":81},{"$f":"'[1]Données reclassées 3G '!Z39","v":129},{"$f":"'[1]Données reclassées 3G '!AA39","v":122},{"$f":"'[1]Données reclassées 3G '!AB39","v":153},{"$f":"'[1]Données reclassées 3G '!AC39","v":147},null,{"$f":"'[1]Données reclassées 4G'!P39","v":23},{"$f":"'[1]Données reclassées 4G'!Q39","v":15},{"$f":"'[1]Données reclassées 4G'!T39","v":16},{"$f":"'[1]Données reclassées 4G'!U39","v":15},{"$f":"'[1]Données reclassées 4G'!AB39","v":13},{"$f":"'[1]Données reclassées 4G'!AC39","v":12},{"$f":"'[1]Données reclassées 4G'!AD39","v":46},{"$f":"'[1]Données reclassées 4G'!AE39","v":39}]
[null,37,"Indre-et-Loire",{"$f":"'[1]Données reclassées 2G'!P40","v":133},{"$f":"'[1]Données reclassées 2G'!Q40","v":128},{"$f":"'[1]Données reclassées 2G'!Z40","v":344},{"$f":"'[1]Données reclassées 2G'!AA40","v":340},{"$f":"'[1]Données reclassées 2G'!AB40","v":363},{"$f":"'[1]Données reclassées 2G'!AC40","v":358},null,{"$f":"'[1]Données reclassées 3G '!P40","v":280},{"$f":"'[1]Données reclassées 3G '!Q40","v":267},{"$f":"'[1]Données reclassées 3G '!Z40","v":260},{"$f":"'[1]Données reclassées 3G '!AA40","v":234},{"$f":"'[1]Données reclassées 3G '!AB40","v":359},{"$f":"'[1]Données reclassées 3G '!AC40","v":331},null,{"$f":"'[1]Données reclassées 4G'!P40","v":91},{"$f":"'[1]Données reclassées 4G'!Q40","v":44},{"$f":"'[1]Données reclassées 4G'!T40","v":73},{"$f":"'[1]Données reclassées 4G'!U40","v":63},{"$f":"'[1]Données reclassées 4G'!AB40","v":123},{"$f":"'[1]Données reclassées 4G'!AC40","v":87},{"$f":"'[1]Données reclassées 4G'!AD40","v":180},{"$f":"'[1]Données reclassées 4G'!AE40","v":153}]
[null,38,"Isère",{"$f":"'[1]Données reclassées 2G'!P41","v":324},{"$f":"'[1]Données reclassées 2G'!Q41","v":305},{"$f":"'[1]Données reclassées 2G'!Z41","v":637},{"$f":"'[1]Données reclassées 2G'!AA41","v":622},{"$f":"'[1]Données reclassées 2G'!AB41","v":697},{"$f":"'[1]Données reclassées 2G'!AC41","v":678},null,{"$f":"'[1]Données reclassées 3G '!P41","v":662},{"$f":"'[1]Données reclassées 3G '!Q41","v":629},{"$f":"'[1]Données reclassées 3G '!Z41","v":526},{"$f":"'[1]Données reclassées 3G '!AA41","v":402},{"$f":"'[1]Données reclassées 3G '!AB41","v":727},{"$f":"'[1]Données reclassées 3G '!AC41","v":690},null,{"$f":"'[1]Données reclassées 4G'!P41","v":309},{"$f":"'[1]Données reclassées 4G'!Q41","v":203},{"$f":"'[1]Données reclassées 4G'!T41","v":151},{"$f":"'[1]Données reclassées 4G'!U41","v":123},{"$f":"'[1]Données reclassées 4G'!AB41","v":238},{"$f":"'[1]Données reclassées 4G'!AC41","v":200},{"$f":"'[1]Données reclassées 4G'!AD41","v":425},{"$f":"'[1]Données reclassées 4G'!AE41","v":360}]
[null,39,"Jura",{"$f":"'[1]Données reclassées 2G'!P42","v":55},{"$f":"'[1]Données reclassées 2G'!Q42","v":55},{"$f":"'[1]Données reclassées 2G'!Z42","v":230},{"$f":"'[1]Données reclassées 2G'!AA42","v":224},{"$f":"'[1]Données reclassées 2G'!AB42","v":250},{"$f":"'[1]Données reclassées 2G'!AC42","v":244},null,{"$f":"'[1]Données reclassées 3G '!P42","v":144},{"$f":"'[1]Données reclassées 3G '!Q42","v":134},{"$f":"'[1]Données reclassées 3G '!Z42","v":161},{"$f":"'[1]Données reclassées 3G '!AA42","v":143},{"$f":"'[1]Données reclassées 3G '!AB42","v":228},{"$f":"'[1]Données reclassées 3G '!AC42","v":211},null,{"$f":"'[1]Données reclassées 4G'!P42","v":43},{"$f":"'[1]Données reclassées 4G'!Q42","v":28},{"$f":"'[1]Données reclassées 4G'!T42","v":11},{"$f":"'[1]Données reclassées 4G'!U42","v":6},{"$f":"'[1]Données reclassées 4G'!AB42","v":17},{"$f":"'[1]Données reclassées 4G'!AC42","v":15},{"$f":"'[1]Données reclassées 4G'!AD42","v":61},{"$f":"'[1]Données reclassées 4G'!AE42","v":44}]
[null,40,"Landes",{"$f":"'[1]Données reclassées 2G'!P43","v":125},{"$f":"'[1]Données reclassées 2G'!Q43","v":121},{"$f":"'[1]Données reclassées 2G'!Z43","v":314},{"$f":"'[1]Données reclassées 2G'!AA43","v":305},{"$f":"'[1]Données reclassées 2G'!AB43","v":339},{"$f":"'[1]Données reclassées 2G'!AC43","v":328},null,{"$f":"'[1]Données reclassées 3G '!P43","v":196},{"$f":"'[1]Données reclassées 3G '!Q43","v":193},{"$f":"'[1]Données reclassées 3G '!Z43","v":235},{"$f":"'[1]Données reclassées 3G '!AA43","v":198},{"$f":"'[1]Données reclassées 3G '!AB43","v":328},{"$f":"'[1]Données reclassées 3G '!AC43","v":299},null,{"$f":"'[1]Données reclassées 4G'!P43","v":60},{"$f":"'[1]Données reclassées 4G'!Q43","v":41},{"$f":"'[1]Données reclassées 4G'!T43","v":44},{"$f":"'[1]Données reclassées 4G'!U43","v":40},{"$f":"'[1]Données reclassées 4G'!AB43","v":33},{"$f":"'[1]Données reclassées 4G'!AC43","v":21},{"$f":"'[1]Données reclassées 4G'!AD43","v":95},{"$f":"'[1]Données reclassées 4G'!AE43","v":72}]
[null,41,"Loir-et-Cher",{"$f":"'[1]Données reclassées 2G'!P44","v":91},{"$f":"'[1]Données reclassées 2G'!Q44","v":86},{"$f":"'[1]Données reclassées 2G'!Z44","v":261},{"$f":"'[1]Données reclassées 2G'!AA44","v":256},{"$f":"'[1]Données reclassées 2G'!AB44","v":287},{"$f":"'[1]Données reclassées 2G'!AC44","v":279},null,{"$f":"'[1]Données reclassées 3G '!P44","v":133},{"$f":"'[1]Données reclassées 3G '!Q44","v":127},{"$f":"'[1]Données reclassées 3G '!Z44","v":204},{"$f":"'[1]Données reclassées 3G '!AA44","v":180},{"$f":"'[1]Données reclassées 3G '!AB44","v":262},{"$f":"'[1]Données reclassées 3G '!AC44","v":242},null,{"$f":"'[1]Données reclassées 4G'!P44","v":30},{"$f":"'[1]Données reclassées 4G'!Q44","v":22},{"$f":"'[1]Données reclassées 4G'!T44","v":26},{"$f":"'[1]Données reclassées 4G'!U44","v":26},{"$f":"'[1]Données reclassées 4G'!AB44","v":35},{"$f":"'[1]Données reclassées 4G'!AC44","v":30},{"$f":"'[1]Données reclassées 4G'!AD44","v":71},{"$f":"'[1]Données reclassées 4G'!AE44","v":64}]
[null,42,"Loire",{"$f":"'[1]Données reclassées 2G'!P45","v":181},{"$f":"'[1]Données reclassées 2G'!Q45","v":169},{"$f":"'[1]Données reclassées 2G'!Z45","v":399},{"$f":"'[1]Données reclassées 2G'!AA45","v":388},{"$f":"'[1]Données reclassées 2G'!AB45","v":449},{"$f":"'[1]Données reclassées 2G'!AC45","v":438},null,{"$f":"'[1]Données reclassées 3G '!P45","v":407},{"$f":"'[1]Données reclassées 3G '!Q45","v":389},{"$f":"'[1]Données reclassées 3G '!Z45","v":330},{"$f":"'[1]Données reclassées 3G '!AA45","v":247},{"$f":"'[1]Données reclassées 3G '!AB45","v":466},{"$f":"'[1]Données reclassées 3G '!AC45","v":442},null,{"$f":"'[1]Données reclassées 4G'!P45","v":150},{"$f":"'[1]Données reclassées 4G'!Q45","v":92},{"$f":"'[1]Données reclassées 4G'!T45","v":89},{"$f":"'[1]Données reclassées 4G'!U45","v":69},{"$f":"'[1]Données reclassées 4G'!AB45","v":148},{"$f":"'[1]Données reclassées 4G'!AC45","v":134},{"$f":"'[1]Données reclassées 4G'!AD45","v":251},{"$f":"'[1]Données reclassées 4G'!AE45","v":218}]
[null,43,"Haute-Loire",{"$f":"'[1]Données reclassées 2G'!P46","v":28},{"$f":"'[1]Données reclassées 2G'!Q46","v":25},{"$f":"'[1]Données reclassées 2G'!Z46","v":152},{"$f":"'[1]Données reclassées 2G'!AA46","v":151},{"$f":"'[1]Données reclassées 2G'!AB46","v":160},{"$f":"'[1]Données reclassées 2G'!AC46","v":157},null,{"$f":"'[1]Données reclassées 3G '!P46","v":73},{"$f":"'[1]Données reclassées 3G '!Q46","v":72},{"$f":"'[1]Données reclassées 3G '!Z46","v":126},{"$f":"'[1]Données reclassées 3G '!AA46","v":116},{"$f":"'[1]Données reclassées 3G '!AB46","v":154},{"$f":"'[1]Données reclassées 3G '!AC46","v":146},null,{"$f":"'[1]Données reclassées 4G'!P46","v":32},{"$f":"'[1]Données reclassées 4G'!Q46","v":20},{"$f":"'[1]Données reclassées 4G'!T46","v":7},{"$f":"'[1]Données reclassées 4G'!U46","v":5},{"$f":"'[1]Données reclassées 4G'!AB46","v":11},{"$f":"'[1]Données reclassées 4G'!AC46","v":8},{"$f":"'[1]Données reclassées 4G'!AD46","v":40},{"$f":"'[1]Données reclassées 4G'!AE46","v":29}]
[null,44,"Loire-Atlantique",{"$f":"'[1]Données reclassées 2G'!P47","v":333},{"$f":"'[1]Données reclassées 2G'!Q47","v":324},{"$f":"'[1]Données reclassées 2G'!Z47","v":570},{"$f":"'[1]Données reclassées 2G'!AA47","v":554},{"$f":"'[1]Données reclassées 2G'!AB47","v":654},{"$f":"'[1]Données reclassées 2G'!AC47","v":638},null,{"$f":"'[1]Données reclassées 3G '!P47","v":660},{"$f":"'[1]Données reclassées 3G '!Q47","v":636},{"$f":"'[1]Données reclassées 3G '!Z47","v":440},{"$f":"'[1]Données reclassées 3G '!AA47","v":372},{"$f":"'[1]Données reclassées 3G '!AB47","v":705},{"$f":"'[1]Données reclassées 3G '!AC47","v":683},null,{"$f":"'[1]Données reclassées 4G'!P47","v":385},{"$f":"'[1]Données reclassées 4G'!Q47","v":302},{"$f":"'[1]Données reclassées 4G'!T47","v":184},{"$f":"'[1]Données reclassées 4G'!U47","v":173},{"$f":"'[1]Données reclassées 4G'!AB47","v":267},{"$f":"'[1]Données reclassées 4G'!AC47","v":225},{"$f":"'[1]Données reclassées 4G'!AD47","v":486},{"$f":"'[1]Données reclassées 4G'!AE47","v":446}]
[null,45,"Loiret",{"$f":"'[1]Données reclassées 2G'!P48","v":148},{"$f":"'[1]Données reclassées 2G'!Q48","v":145},{"$f":"'[1]Données reclassées 2G'!Z48","v":350},{"$f":"'[1]Données reclassées 2G'!AA48","v":342},{"$f":"'[1]Données reclassées 2G'!AB48","v":377},{"$f":"'[1]Données reclassées 2G'!AC48","v":369},null,{"$f":"'[1]Données reclassées 3G '!P48","v":322},{"$f":"'[1]Données reclassées 3G '!Q48","v":309},{"$f":"'[1]Données reclassées 3G '!Z48","v":266},{"$f":"'[1]Données reclassées 3G '!AA48","v":221},{"$f":"'[1]Données reclassées 3G '!AB48","v":399},{"$f":"'[1]Données reclassées 3G '!AC48","v":381},null,{"$f":"'[1]Données reclassées 4G'!P48","v":102},{"$f":"'[1]Données reclassées 4G'!Q48","v":76},{"$f":"'[1]Données reclassées 4G'!T48","v":76},{"$f":"'[1]Données reclassées 4G'!U48","v":72},{"$f":"'[1]Données reclassées 4G'!AB48","v":92},{"$f":"'[1]Données reclassées 4G'!AC48","v":65},{"$f":"'[1]Données reclassées 4G'!AD48","v":187},{"$f":"'[1]Données reclassées 4G'!AE48","v":167}]
[null,46,"Lot",{"$f":"'[1]Données reclassées 2G'!P49","v":31},{"$f":"'[1]Données reclassées 2G'!Q49","v":30},{"$f":"'[1]Données reclassées 2G'!Z49","v":173},{"$f":"'[1]Données reclassées 2G'!AA49","v":169},{"$f":"'[1]Données reclassées 2G'!AB49","v":184},{"$f":"'[1]Données reclassées 2G'!AC49","v":180},null,{"$f":"'[1]Données reclassées 3G '!P49","v":62},{"$f":"'[1]Données reclassées 3G '!Q49","v":55},{"$f":"'[1]Données reclassées 3G '!Z49","v":130},{"$f":"'[1]Données reclassées 3G '!AA49","v":117},{"$f":"'[1]Données reclassées 3G '!AB49","v":154},{"$f":"'[1]Données reclassées 3G '!AC49","v":143},null,{"$f":"'[1]Données reclassées 4G'!P49","v":21},{"$f":"'[1]Données reclassées 4G'!Q49","v":11},{"$f":"'[1]Données reclassées 4G'!T49","v":6},{"$f":"'[1]Données reclassées 4G'!U49","v":6},{"$f":"'[1]Données reclassées 4G'!AB49","v":7},{"$f":"'[1]Données reclassées 4G'!AC49","v":6},{"$f":"'[1]Données reclassées 4G'!AD49","v":28},{"$f":"'[1]Données reclassées 4G'!AE49","v":18}]
[null,47,"Lot-et-Garonne",{"$f":"'[1]Données reclassées 2G'!P50","v":57},{"$f":"'[1]Données reclassées 2G'!Q50","v":55},{"$f":"'[1]Données reclassées 2G'!Z50","v":174},{"$f":"'[1]Données reclassées 2G'!AA50","v":171},{"$f":"'[1]Données reclassées 2G'!AB50","v":183},{"$f":"'[1]Données reclassées 2G'!AC50","v":179},null,{"$f":"'[1]Données reclassées 3G '!P50","v":129},{"$f":"'[1]Données reclassées 3G '!Q50","v":121},{"$f":"'[1]Données reclassées 3G '!Z50","v":133},{"$f":"'[1]Données reclassées 3G '!AA50","v":126},{"$f":"'[1]Données reclassées 3G '!AB50","v":185},{"$f":"'[1]Données reclassées 3G '!AC50","v":176},null,{"$f":"'[1]Données reclassées 4G'!P50","v":45},{"$f":"'[1]Données reclassées 4G'!Q50","v":32},{"$f":"'[1]Données reclassées 4G'!T50","v":21},{"$f":"'[1]Données reclassées 4G'!U50","v":19},{"$f":"'[1]Données reclassées 4G'!AB50","v":20},{"$f":"'[1]Données reclassées 4G'!AC50","v":16},{"$f":"'[1]Données reclassées 4G'!AD50","v":64},{"$f":"'[1]Données reclassées 4G'!AE50","v":54}]
[null,48,"Lozère",{"$f":"'[1]Données reclassées 2G'!P51","v":11},{"$f":"'[1]Données reclassées 2G'!Q51","v":11},{"$f":"'[1]Données reclassées 2G'!Z51","v":122},{"$f":"'[1]Données reclassées 2G'!AA51","v":121},{"$f":"'[1]Données reclassées 2G'!AB51","v":122},{"$f":"'[1]Données reclassées 2G'!AC51","v":121},null,{"$f":"'[1]Données reclassées 3G '!P51","v":27},{"$f":"'[1]Données reclassées 3G '!Q51","v":27},{"$f":"'[1]Données reclassées 3G '!Z51","v":77},{"$f":"'[1]Données reclassées 3G '!AA51","v":44},{"$f":"'[1]Données reclassées 3G '!AB51","v":92},{"$f":"'[1]Données reclassées 3G '!AC51","v":59},null,{"$f":"'[1]Données reclassées 4G'!P51","v":9},{"$f":"'[1]Données reclassées 4G'!Q51","v":3},{"$f":"'[1]Données reclassées 4G'!T51","v":0},{"$f":"'[1]Données reclassées 4G'!U51","v":0},{"$f":"'[1]Données reclassées 4G'!AB51","v":5},{"$f":"'[1]Données reclassées 4G'!AC51","v":5},{"$f":"'[1]Données reclassées 4G'!AD51","v":11},{"$f":"'[1]Données reclassées 4G'!AE51","v":6}]
[null,49,"Maine-et-Loire",{"$f":"'[1]Données reclassées 2G'!P52","v":140},{"$f":"'[1]Données reclassées 2G'!Q52","v":137},{"$f":"'[1]Données reclassées 2G'!Z52","v":371},{"$f":"'[1]Données reclassées 2G'!AA52","v":358},{"$f":"'[1]Données reclassées 2G'!AB52","v":400},{"$f":"'[1]Données reclassées 2G'!AC52","v":391},null,{"$f":"'[1]Données reclassées 3G '!P52","v":331},{"$f":"'[1]Données reclassées 3G '!Q52","v":317},{"$f":"'[1]Données reclassées 3G '!Z52","v":250},{"$f":"'[1]Données reclassées 3G '!AA52","v":209},{"$f":"'[1]Données reclassées 3G '!AB52","v":407},{"$f":"'[1]Données reclassées 3G '!AC52","v":392},null,{"$f":"'[1]Données reclassées 4G'!P52","v":115},{"$f":"'[1]Données reclassées 4G'!Q52","v":74},{"$f":"'[1]Données reclassées 4G'!T52","v":74},{"$f":"'[1]Données reclassées 4G'!U52","v":67},{"$f":"'[1]Données reclassées 4G'!AB52","v":96},{"$f":"'[1]Données reclassées 4G'!AC52","v":50},{"$f":"'[1]Données reclassées 4G'!AD52","v":206},{"$f":"'[1]Données reclassées 4G'!AE52","v":159}]
[null,50,"Manche",{"$f":"'[1]Données reclassées 2G'!P53","v":90},{"$f":"'[1]Données reclassées 2G'!Q53","v":86},{"$f":"'[1]Données reclassées 2G'!Z53","v":229},{"$f":"'[1]Données reclassées 2G'!AA53","v":221},{"$f":"'[1]Données reclassées 2G'!AB53","v":250},{"$f":"'[1]Données reclassées 2G'!AC53","v":241},null,{"$f":"'[1]Données reclassées 3G '!P53","v":208},{"$f":"'[1]Données reclassées 3G '!Q53","v":192},{"$f":"'[1]Données reclassées 3G '!Z53","v":114},{"$f":"'[1]Données reclassées 3G '!AA53","v":102},{"$f":"'[1]Données reclassées 3G '!AB53","v":256},{"$f":"'[1]Données reclassées 3G '!AC53","v":238},null,{"$f":"'[1]Données reclassées 4G'!P53","v":66},{"$f":"'[1]Données reclassées 4G'!Q53","v":36},{"$f":"'[1]Données reclassées 4G'!T53","v":31},{"$f":"'[1]Données reclassées 4G'!U53","v":28},{"$f":"'[1]Données reclassées 4G'!AB53","v":35},{"$f":"'[1]Données reclassées 4G'!AC53","v":23},{"$f":"'[1]Données reclassées 4G'!AD53","v":102},{"$f":"'[1]Données reclassées 4G'!AE53","v":73}]
[null,51,"Marne",{"$f":"'[1]Données reclassées 2G'!P54","v":157},{"$f":"'[1]Données reclassées 2G'!Q54","v":155},{"$f":"'[1]Données reclassées 2G'!Z54","v":333},{"$f":"'[1]Données reclassées 2G'!AA54","v":323},{"$f":"'[1]Données reclassées 2G'!AB54","v":376},{"$f":"'[1]Données reclassées 2G'!AC54","v":366},null,{"$f":"'[1]Données reclassées 3G '!P54","v":282},{"$f":"'[1]Données reclassées 3G '!Q54","v":275},{"$f":"'[1]Données reclassées 3G '!Z54","v":258},{"$f":"'[1]Données reclassées 3G '!AA54","v":236},{"$f":"'[1]Données reclassées 3G '!AB54","v":371},{"$f":"'[1]Données reclassées 3G '!AC54","v":356},null,{"$f":"'[1]Données reclassées 4G'!P54","v":113},{"$f":"'[1]Données reclassées 4G'!Q54","v":87},{"$f":"'[1]Données reclassées 4G'!T54","v":56},{"$f":"'[1]Données reclassées 4G'!U54","v":48},{"$f":"'[1]Données reclassées 4G'!AB54","v":79},{"$f":"'[1]Données reclassées 4G'!AC54","v":62},{"$f":"'[1]Données reclassées 4G'!AD54","v":166},{"$f":"'[1]Données reclassées 4G'!AE54","v":143}]
[null,52,"Haute-Marne",{"$f":"'[1]Données reclassées 2G'!P55","v":38},{"$f":"'[1]Données reclassées 2G'!Q55","v":38},{"$f":"'[1]Données reclassées 2G'!Z55","v":246},{"$f":"'[1]Données reclassées 2G'!AA55","v":238},{"$f":"'[1]Données reclassées 2G'!AB55","v":254},{"$f":"'[1]Données reclassées 2G'!AC55","v":247},null,{"$f":"'[1]Données reclassées 3G '!P55","v":73},{"$f":"'[1]Données reclassées 3G '!Q55","v":70},{"$f":"'[1]Données reclassées 3G '!Z55","v":205},{"$f":"'[1]Données reclassées 3G '!AA55","v":177},{"$f":"'[1]Données reclassées 3G '!AB55","v":226},{"$f":"'[1]Données reclassées 3G '!AC55","v":197},null,{"$f":"'[1]Données reclassées 4G'!P55","v":27},{"$f":"'[1]Données reclassées 4G'!Q55","v":23},{"$f":"'[1]Données reclassées 4G'!T55","v":0},{"$f":"'[1]Données reclassées 4G'!U55","v":0},{"$f":"'[1]Données reclassées 4G'!AB55","v":11},{"$f":"'[1]Données reclassées 4G'!AC55","v":11},{"$f":"'[1]Données reclassées 4G'!AD55","v":31},{"$f":"'[1]Données reclassées 4G'!AE55","v":28}]
[null,53,"Mayenne",{"$f":"'[1]Données reclassées 2G'!P56","v":28},{"$f":"'[1]Données reclassées 2G'!Q56","v":27},{"$f":"'[1]Données reclassées 2G'!Z56","v":155},{"$f":"'[1]Données reclassées 2G'!AA56","v":154},{"$f":"'[1]Données reclassées 2G'!AB56","v":162},{"$f":"'[1]Données reclassées 2G'!AC56","v":160},null,{"$f":"'[1]Données reclassées 3G '!P56","v":108},{"$f":"'[1]Données reclassées 3G '!Q56","v":106},{"$f":"'[1]Données reclassées 3G '!Z56","v":103},{"$f":"'[1]Données reclassées 3G '!AA56","v":97},{"$f":"'[1]Données reclassées 3G '!AB56","v":160},{"$f":"'[1]Données reclassées 3G '!AC56","v":156},null,{"$f":"'[1]Données reclassées 4G'!P56","v":46},{"$f":"'[1]Données reclassées 4G'!Q56","v":31},{"$f":"'[1]Données reclassées 4G'!T56","v":20},{"$f":"'[1]Données reclassées 4G'!U56","v":18},{"$f":"'[1]Données reclassées 4G'!AB56","v":10},{"$f":"'[1]Données reclassées 4G'!AC56","v":6},{"$f":"'[1]Données reclassées 4G'!AD56","v":58},{"$f":"'[1]Données reclassées 4G'!AE56","v":44}]
[null,54,"Meurthe-et-Moselle",{"$f":"'[1]Données reclassées 2G'!P57","v":223},{"$f":"'[1]Données reclassées 2G'!Q57","v":217},{"$f":"'[1]Données reclassées 2G'!Z57","v":379},{"$f":"'[1]Données reclassées 2G'!AA57","v":366},{"$f":"'[1]Données reclassées 2G'!AB57","v":446},{"$f":"'[1]Données reclassées 2G'!AC57","v":436},null,{"$f":"'[1]Données reclassées 3G '!P57","v":393},{"$f":"'[1]Données reclassées 3G '!Q57","v":379},{"$f":"'[1]Données reclassées 3G '!Z57","v":289},{"$f":"'[1]Données reclassées 3G '!AA57","v":240},{"$f":"'[1]Données reclassées 3G '!AB57","v":452},{"$f":"'[1]Données reclassées 3G '!AC57","v":435},null,{"$f":"'[1]Données reclassées 4G'!P57","v":145},{"$f":"'[1]Données reclassées 4G'!Q57","v":107},{"$f":"'[1]Données reclassées 4G'!T57","v":87},{"$f":"'[1]Données reclassées 4G'!U57","v":75},{"$f":"'[1]Données reclassées 4G'!AB57","v":122},{"$f":"'[1]Données reclassées 4G'!AC57","v":53},{"$f":"'[1]Données reclassées 4G'!AD57","v":247},{"$f":"'[1]Données reclassées 4G'!AE57","v":199}]
[null,55,"Meuse",{"$f":"'[1]Données reclassées 2G'!P58","v":37},{"$f":"'[1]Données reclassées 2G'!Q58","v":36},{"$f":"'[1]Données reclassées 2G'!Z58","v":209},{"$f":"'[1]Données reclassées 2G'!AA58","v":206},{"$f":"'[1]Données reclassées 2G'!AB58","v":223},{"$f":"'[1]Données reclassées 2G'!AC58","v":219},null,{"$f":"'[1]Données reclassées 3G '!P58","v":75},{"$f":"'[1]Données reclassées 3G '!Q58","v":70},{"$f":"'[1]Données reclassées 3G '!Z58","v":169},{"$f":"'[1]Données reclassées 3G '!AA58","v":153},{"$f":"'[1]Données reclassées 3G '!AB58","v":200},{"$f":"'[1]Données reclassées 3G '!AC58","v":185},null,{"$f":"'[1]Données reclassées 4G'!P58","v":24},{"$f":"'[1]Données reclassées 4G'!Q58","v":18},{"$f":"'[1]Données reclassées 4G'!T58","v":0},{"$f":"'[1]Données reclassées 4G'!U58","v":0},{"$f":"'[1]Données reclassées 4G'!AB58","v":11},{"$f":"'[1]Données reclassées 4G'!AC58","v":10},{"$f":"'[1]Données reclassées 4G'!AD58","v":34},{"$f":"'[1]Données reclassées 4G'!AE58","v":27}]
[null,56,"Morbihan",{"$f":"'[1]Données reclassées 2G'!P59","v":154},{"$f":"'[1]Données reclassées 2G'!Q59","v":154},{"$f":"'[1]Données reclassées 2G'!Z59","v":368},{"$f":"'[1]Données reclassées 2G'!AA59","v":363},{"$f":"'[1]Données reclassées 2G'!AB59","v":397},{"$f":"'[1]Données reclassées 2G'!AC59","v":393},null,{"$f":"'[1]Données reclassées 3G '!P59","v":312},{"$f":"'[1]Données reclassées 3G '!Q59","v":305},{"$f":"'[1]Données reclassées 3G '!Z59","v":224},{"$f":"'[1]Données reclassées 3G '!AA59","v":201},{"$f":"'[1]Données reclassées 3G '!AB59","v":387},{"$f":"'[1]Données reclassées 3G '!AC59","v":380},null,{"$f":"'[1]Données reclassées 4G'!P59","v":118},{"$f":"'[1]Données reclassées 4G'!Q59","v":83},{"$f":"'[1]Données reclassées 4G'!T59","v":76},{"$f":"'[1]Données reclassées 4G'!U59","v":70},{"$f":"'[1]Données reclassées 4G'!AB59","v":42},{"$f":"'[1]Données reclassées 4G'!AC59","v":29},{"$f":"'[1]Données reclassées 4G'!AD59","v":180},{"$f":"'[1]Données reclassées 4G'!AE59","v":146}]
[null,57,"Moselle",{"$f":"'[1]Données reclassées 2G'!P60","v":265},{"$f":"'[1]Données reclassées 2G'!Q60","v":257},{"$f":"'[1]Données reclassées 2G'!Z60","v":553},{"$f":"'[1]Données reclassées 2G'!AA60","v":535},{"$f":"'[1]Données reclassées 2G'!AB60","v":611},{"$f":"'[1]Données reclassées 2G'!AC60","v":593},null,{"$f":"'[1]Données reclassées 3G '!P60","v":561},{"$f":"'[1]Données reclassées 3G '!Q60","v":547},{"$f":"'[1]Données reclassées 3G '!Z60","v":268},{"$f":"'[1]Données reclassées 3G '!AA60","v":243},{"$f":"'[1]Données reclassées 3G '!AB60","v":623},{"$f":"'[1]Données reclassées 3G '!AC60","v":603},null,{"$f":"'[1]Données reclassées 4G'!P60","v":198},{"$f":"'[1]Données reclassées 4G'!Q60","v":152},{"$f":"'[1]Données reclassées 4G'!T60","v":85},{"$f":"'[1]Données reclassées 4G'!U60","v":69},{"$f":"'[1]Données reclassées 4G'!AB60","v":151},{"$f":"'[1]Données reclassées 4G'!AC60","v":116},{"$f":"'[1]Données reclassées 4G'!AD60","v":295},{"$f":"'[1]Données reclassées 4G'!AE60","v":257}]
[null,58,"Nièvre",{"$f":"'[1]Données reclassées 2G'!P61","v":53},{"$f":"'[1]Données reclassées 2G'!Q61","v":52},{"$f":"'[1]Données reclassées 2G'!Z61","v":171},{"$f":"'[1]Données reclassées 2G'!AA61","v":171},{"$f":"'[1]Données reclassées 2G'!AB61","v":192},{"$f":"'[1]Données reclassées 2G'!AC61","v":192},null,{"$f":"'[1]Données reclassées 3G '!P61","v":93},{"$f":"'[1]Données reclassées 3G '!Q61","v":91},{"$f":"'[1]Données reclassées 3G '!Z61","v":127},{"$f":"'[1]Données reclassées 3G '!AA61","v":117},{"$f":"'[1]Données reclassées 3G '!AB61","v":162},{"$f":"'[1]Données reclassées 3G '!AC61","v":153},null,{"$f":"'[1]Données reclassées 4G'!P61","v":33},{"$f":"'[1]Données reclassées 4G'!Q61","v":25},{"$f":"'[1]Données reclassées 4G'!T61","v":20},{"$f":"'[1]Données reclassées 4G'!U61","v":18},{"$f":"'[1]Données reclassées 4G'!AB61","v":17},{"$f":"'[1]Données reclassées 4G'!AC61","v":16},{"$f":"'[1]Données reclassées 4G'!AD61","v":59},{"$f":"'[1]Données reclassées 4G'!AE61","v":50}]
[null,59,"Nord",{"$f":"'[1]Données reclassées 2G'!P62","v":722},{"$f":"'[1]Données reclassées 2G'!Q62","v":696},{"$f":"'[1]Données reclassées 2G'!Z62","v":1019},{"$f":"'[1]Données reclassées 2G'!AA62","v":982},{"$f":"'[1]Données reclassées 2G'!AB62","v":1179},{"$f":"'[1]Données reclassées 2G'!AC62","v":1137},null,{"$f":"'[1]Données reclassées 3G '!P62","v":1265},{"$f":"'[1]Données reclassées 3G '!Q62","v":1205},{"$f":"'[1]Données reclassées 3G '!Z62","v":295},{"$f":"'[1]Données reclassées 3G '!AA62","v":235},{"$f":"'[1]Données reclassées 3G '!AB62","v":1272},{"$f":"'[1]Données reclassées 3G '!AC62","v":1214},null,{"$f":"'[1]Données reclassées 4G'!P62","v":681},{"$f":"'[1]Données reclassées 4G'!Q62","v":566},{"$f":"'[1]Données reclassées 4G'!T62","v":230},{"$f":"'[1]Données reclassées 4G'!U62","v":109},{"$f":"'[1]Données reclassées 4G'!AB62","v":591},{"$f":"'[1]Données reclassées 4G'!AC62","v":413},{"$f":"'[1]Données reclassées 4G'!AD62","v":898},{"$f":"'[1]Données reclassées 4G'!AE62","v":766}]
[null,60,"Oise",{"$f":"'[1]Données reclassées 2G'!P63","v":147},{"$f":"'[1]Données reclassées 2G'!Q63","v":135},{"$f":"'[1]Données reclassées 2G'!Z63","v":385},{"$f":"'[1]Données reclassées 2G'!AA63","v":375},{"$f":"'[1]Données reclassées 2G'!AB63","v":407},{"$f":"'[1]Données reclassées 2G'!AC63","v":396},null,{"$f":"'[1]Données reclassées 3G '!P63","v":353},{"$f":"'[1]Données reclassées 3G '!Q63","v":336},{"$f":"'[1]Données reclassées 3G '!Z63","v":249},{"$f":"'[1]Données reclassées 3G '!AA63","v":226},{"$f":"'[1]Données reclassées 3G '!AB63","v":422},{"$f":"'[1]Données reclassées 3G '!AC63","v":407},null,{"$f":"'[1]Données reclassées 4G'!P63","v":106},{"$f":"'[1]Données reclassées 4G'!Q63","v":76},{"$f":"'[1]Données reclassées 4G'!T63","v":63},{"$f":"'[1]Données reclassées 4G'!U63","v":51},{"$f":"'[1]Données reclassées 4G'!AB63","v":75},{"$f":"'[1]Données reclassées 4G'!AC63","v":59},{"$f":"'[1]Données reclassées 4G'!AD63","v":171},{"$f":"'[1]Données reclassées 4G'!AE63","v":147}]
[null,61,"Orne",{"$f":"'[1]Données reclassées 2G'!P64","v":43},{"$f":"'[1]Données reclassées 2G'!Q64","v":42},{"$f":"'[1]Données reclassées 2G'!Z64","v":170},{"$f":"'[1]Données reclassées 2G'!AA64","v":166},{"$f":"'[1]Données reclassées 2G'!AB64","v":178},{"$f":"'[1]Données reclassées 2G'!AC64","v":175},null,{"$f":"'[1]Données reclassées 3G '!P64","v":70},{"$f":"'[1]Données reclassées 3G '!Q64","v":67},{"$f":"'[1]Données reclassées 3G '!Z64","v":121},{"$f":"'[1]Données reclassées 3G '!AA64","v":114},{"$f":"'[1]Données reclassées 3G '!AB64","v":161},{"$f":"'[1]Données reclassées 3G '!AC64","v":154},null,{"$f":"'[1]Données reclassées 4G'!P64","v":24},{"$f":"'[1]Données reclassées 4G'!Q64","v":15},{"$f":"'[1]Données reclassées 4G'!T64","v":7},{"$f":"'[1]Données reclassées 4G'!U64","v":7},{"$f":"'[1]Données reclassées 4G'!AB64","v":12},{"$f":"'[1]Données reclassées 4G'!AC64","v":10},{"$f":"'[1]Données reclassées 4G'!AD64","v":35},{"$f":"'[1]Données reclassées 4G'!AE64","v":27}]
[null,62,"Pas-de-Calais",{"$f":"'[1]Données reclassées 2G'!P65","v":337},{"$f":"'[1]Données reclassées 2G'!Q65","v":322},{"$f":"'[1]Données reclassées 2G'!Z65","v":620},{"$f":"'[1]Données reclassées 2G'!AA65","v":600},{"$f":"'[1]Données reclassées 2G'!AB65","v":699},{"$f":"'[1]Données reclassées 2G'!AC65","v":675},null,{"$f":"'[1]Données reclassées 3G '!P65","v":669},{"$f":"'[1]Données reclassées 3G '!Q65","v":651},{"$f":"'[1]Données reclassées 3G '!Z65","v":280},{"$f":"'[1]Données reclassées 3G '!AA65","v":171},{"$f":"'[1]Données reclassées 3G '!AB65","v":717},{"$f":"'[1]Données reclassées 3G '!AC65","v":693},null,{"$f":"'[1]Données reclassées 4G'!P65","v":280},{"$f":"'[1]Données reclassées 4G'!Q65","v":201},{"$f":"'[1]Données reclassées 4G'!T65","v":130},{"$f":"'[1]Données reclassées 4G'!U65","v":99},{"$f":"'[1]Données reclassées 4G'!AB65","v":247},{"$f":"'[1]Données reclassées 4G'!AC65","v":161},{"$f":"'[1]Données reclassées 4G'!AD65","v":414},{"$f":"'[1]Données reclassées 4G'!AE65","v":330}]
[null,63,"Puy-de-Dôme",{"$f":"'[1]Données reclassées 2G'!P66","v":200},{"$f":"'[1]Données reclassées 2G'!Q66","v":193},{"$f":"'[1]Données reclassées 2G'!Z66","v":425},{"$f":"'[1]Données reclassées 2G'!AA66","v":385},{"$f":"'[1]Données reclassées 2G'!AB66","v":459},{"$f":"'[1]Données reclassées 2G'!AC66","v":441},null,{"$f":"'[1]Données reclassées 3G '!P66","v":349},{"$f":"'[1]Données reclassées 3G '!Q66","v":329},{"$f":"'[1]Données reclassées 3G '!Z66","v":362},{"$f":"'[1]Données reclassées 3G '!AA66","v":241},{"$f":"'[1]Données reclassées 3G '!AB66","v":464},{"$f":"'[1]Données reclassées 3G '!AC66","v":440},null,{"$f":"'[1]Données reclassées 4G'!P66","v":178},{"$f":"'[1]Données reclassées 4G'!Q66","v":123},{"$f":"'[1]Données reclassées 4G'!T66","v":77},{"$f":"'[1]Données reclassées 4G'!U66","v":62},{"$f":"'[1]Données reclassées 4G'!AB66","v":131},{"$f":"'[1]Données reclassées 4G'!AC66","v":70},{"$f":"'[1]Données reclassées 4G'!AD66","v":255},{"$f":"'[1]Données reclassées 4G'!AE66","v":190}]
[null,64,"Pyrénées-Atlantiques",{"$f":"'[1]Données reclassées 2G'!P67","v":204},{"$f":"'[1]Données reclassées 2G'!Q67","v":195},{"$f":"'[1]Données reclassées 2G'!Z67","v":356},{"$f":"'[1]Données reclassées 2G'!AA67","v":347},{"$f":"'[1]Données reclassées 2G'!AB67","v":386},{"$f":"'[1]Données reclassées 2G'!AC67","v":375},null,{"$f":"'[1]Données reclassées 3G '!P67","v":339},{"$f":"'[1]Données reclassées 3G '!Q67","v":321},{"$f":"'[1]Données reclassées 3G '!Z67","v":190},{"$f":"'[1]Données reclassées 3G '!AA67","v":158},{"$f":"'[1]Données reclassées 3G '!AB67","v":385},{"$f":"'[1]Données reclassées 3G '!AC67","v":363},null,{"$f":"'[1]Données reclassées 4G'!P67","v":180},{"$f":"'[1]Données reclassées 4G'!Q67","v":116},{"$f":"'[1]Données reclassées 4G'!T67","v":82},{"$f":"'[1]Données reclassées 4G'!U67","v":64},{"$f":"'[1]Données reclassées 4G'!AB67","v":69},{"$f":"'[1]Données reclassées 4G'!AC67","v":34},{"$f":"'[1]Données reclassées 4G'!AD67","v":226},{"$f":"'[1]Données reclassées 4G'!AE67","v":168}]
[null,65,"Hautes-Pyrénées",{"$f":"'[1]Données reclassées 2G'!P68","v":68},{"$f":"'[1]Données reclassées 2G'!Q68","v":67},{"$f":"'[1]Données reclassées 2G'!Z68","v":182},{"$f":"'[1]Données reclassées 2G'!AA68","v":179},{"$f":"'[1]Données reclassées 2G'!AB68","v":202},{"$f":"'[1]Données reclassées 2G'!AC68","v":198},null,{"$f":"'[1]Données reclassées 3G '!P68","v":129},{"$f":"'[1]Données reclassées 3G '!Q68","v":116},{"$f":"'[1]Données reclassées 3G '!Z68","v":130},{"$f":"'[1]Données reclassées 3G '!AA68","v":111},{"$f":"'[1]Données reclassées 3G '!AB68","v":179},{"$f":"'[1]Données reclassées 3G '!AC68","v":158},null,{"$f":"'[1]Données reclassées 4G'!P68","v":49},{"$f":"'[1]Données reclassées 4G'!Q68","v":31},{"$f":"'[1]Données reclassées 4G'!T68","v":27},{"$f":"'[1]Données reclassées 4G'!U68","v":24},{"$f":"'[1]Données reclassées 4G'!AB68","v":23},{"$f":"'[1]Données reclassées 4G'!AC68","v":18},{"$f":"'[1]Données reclassées 4G'!AD68","v":70},{"$f":"'[1]Données reclassées 4G'!AE68","v":56}]
[null,66,"Pyrénées-Orientales",{"$f":"'[1]Données reclassées 2G'!P69","v":129},{"$f":"'[1]Données reclassées 2G'!Q69","v":120},{"$f":"'[1]Données reclassées 2G'!Z69","v":291},{"$f":"'[1]Données reclassées 2G'!AA69","v":282},{"$f":"'[1]Données reclassées 2G'!AB69","v":314},{"$f":"'[1]Données reclassées 2G'!AC69","v":304},null,{"$f":"'[1]Données reclassées 3G '!P69","v":286},{"$f":"'[1]Données reclassées 3G '!Q69","v":271},{"$f":"'[1]Données reclassées 3G '!Z69","v":149},{"$f":"'[1]Données reclassées 3G '!AA69","v":58},{"$f":"'[1]Données reclassées 3G '!AB69","v":311},{"$f":"'[1]Données reclassées 3G '!AC69","v":292},null,{"$f":"'[1]Données reclassées 4G'!P69","v":98},{"$f":"'[1]Données reclassées 4G'!Q69","v":63},{"$f":"'[1]Données reclassées 4G'!T69","v":36},{"$f":"'[1]Données reclassées 4G'!U69","v":36},{"$f":"'[1]Données reclassées 4G'!AB69","v":41},{"$f":"'[1]Données reclassées 4G'!AC69","v":37},{"$f":"'[1]Données reclassées 4G'!AD69","v":136},{"$f":"'[1]Données reclassées 4G'!AE69","v":105}]
[null,67,"Bas-Rhin",{"$f":"'[1]Données reclassées 2G'!P70","v":312},{"$f":"'[1]Données reclassées 2G'!Q70","v":305},{"$f":"'[1]Données reclassées 2G'!Z70","v":501},{"$f":"'[1]Données reclassées 2G'!AA70","v":483},{"$f":"'[1]Données reclassées 2G'!AB70","v":569},{"$f":"'[1]Données reclassées 2G'!AC70","v":558},null,{"$f":"'[1]Données reclassées 3G '!P70","v":564},{"$f":"'[1]Données reclassées 3G '!Q70","v":545},{"$f":"'[1]Données reclassées 3G '!Z70","v":182},{"$f":"'[1]Données reclassées 3G '!AA70","v":165},{"$f":"'[1]Données reclassées 3G '!AB70","v":591},{"$f":"'[1]Données reclassées 3G '!AC70","v":570},null,{"$f":"'[1]Données reclassées 4G'!P70","v":291},{"$f":"'[1]Données reclassées 4G'!Q70","v":233},{"$f":"'[1]Données reclassées 4G'!T70","v":86},{"$f":"'[1]Données reclassées 4G'!U70","v":47},{"$f":"'[1]Données reclassées 4G'!AB70","v":202},{"$f":"'[1]Données reclassées 4G'!AC70","v":167},{"$f":"'[1]Données reclassées 4G'!AD70","v":363},{"$f":"'[1]Données reclassées 4G'!AE70","v":317}]
[null,68,"Haut-Rhin",{"$f":"'[1]Données reclassées 2G'!P71","v":163},{"$f":"'[1]Données reclassées 2G'!Q71","v":154},{"$f":"'[1]Données reclassées 2G'!Z71","v":318},{"$f":"'[1]Données reclassées 2G'!AA71","v":305},{"$f":"'[1]Données reclassées 2G'!AB71","v":342},{"$f":"'[1]Données reclassées 2G'!AC71","v":330},null,{"$f":"'[1]Données reclassées 3G '!P71","v":357},{"$f":"'[1]Données reclassées 3G '!Q71","v":348},{"$f":"'[1]Données reclassées 3G '!Z71","v":104},{"$f":"'[1]Données reclassées 3G '!AA71","v":85},{"$f":"'[1]Données reclassées 3G '!AB71","v":373},{"$f":"'[1]Données reclassées 3G '!AC71","v":362},null,{"$f":"'[1]Données reclassées 4G'!P71","v":154},{"$f":"'[1]Données reclassées 4G'!Q71","v":111},{"$f":"'[1]Données reclassées 4G'!T71","v":51},{"$f":"'[1]Données reclassées 4G'!U71","v":42},{"$f":"'[1]Données reclassées 4G'!AB71","v":75},{"$f":"'[1]Données reclassées 4G'!AC71","v":62},{"$f":"'[1]Données reclassées 4G'!AD71","v":200},{"$f":"'[1]Données reclassées 4G'!AE71","v":174}]
[null,69,"Rhône",{"$f":"'[1]Données reclassées 2G'!P72","v":795},{"$f":"'[1]Données reclassées 2G'!Q72","v":761},{"$f":"'[1]Données reclassées 2G'!Z72","v":867},{"$f":"'[1]Données reclassées 2G'!AA72","v":774},{"$f":"'[1]Données reclassées 2G'!AB72","v":1092},{"$f":"'[1]Données reclassées 2G'!AC72","v":1060},null,{"$f":"'[1]Données reclassées 3G '!P72","v":1167},{"$f":"'[1]Données reclassées 3G '!Q72","v":1119},{"$f":"'[1]Données reclassées 3G '!Z72","v":947},{"$f":"'[1]Données reclassées 3G '!AA72","v":704},{"$f":"'[1]Données reclassées 3G '!AB72","v":1223},{"$f":"'[1]Données reclassées 3G '!AC72","v":1173},null,{"$f":"'[1]Données reclassées 4G'!P72","v":803},{"$f":"'[1]Données reclassées 4G'!Q72","v":628},{"$f":"'[1]Données reclassées 4G'!T72","v":323},{"$f":"'[1]Données reclassées 4G'!U72","v":298},{"$f":"'[1]Données reclassées 4G'!AB72","v":615},{"$f":"'[1]Données reclassées 4G'!AC72","v":535},{"$f":"'[1]Données reclassées 4G'!AD72","v":995},{"$f":"'[1]Données reclassées 4G'!AE72","v":924}]
[null,70,"Haute-Saône",{"$f":"'[1]Données reclassées 2G'!P73","v":43},{"$f":"'[1]Données reclassées 2G'!Q73","v":43},{"$f":"'[1]Données reclassées 2G'!Z73","v":230},{"$f":"'[1]Données reclassées 2G'!AA73","v":217},{"$f":"'[1]Données reclassées 2G'!AB73","v":246},{"$f":"'[1]Données reclassées 2G'!AC73","v":233},null,{"$f":"'[1]Données reclassées 3G '!P73","v":89},{"$f":"'[1]Données reclassées 3G '!Q73","v":86},{"$f":"'[1]Données reclassées 3G '!Z73","v":190},{"$f":"'[1]Données reclassées 3G '!AA73","v":159},{"$f":"'[1]Données reclassées 3G '!AB73","v":232},{"$f":"'[1]Données reclassées 3G '!AC73","v":201},null,{"$f":"'[1]Données reclassées 4G'!P73","v":25},{"$f":"'[1]Données reclassées 4G'!Q73","v":11},{"$f":"'[1]Données reclassées 4G'!T73","v":8},{"$f":"'[1]Données reclassées 4G'!U73","v":8},{"$f":"'[1]Données reclassées 4G'!AB73","v":16},{"$f":"'[1]Données reclassées 4G'!AC73","v":12},{"$f":"'[1]Données reclassées 4G'!AD73","v":39},{"$f":"'[1]Données reclassées 4G'!AE73","v":28}]
[null,71,"Saône-et-Loire",{"$f":"'[1]Données reclassées 2G'!P74","v":110},{"$f":"'[1]Données reclassées 2G'!Q74","v":109},{"$f":"'[1]Données reclassées 2G'!Z74","v":371},{"$f":"'[1]Données reclassées 2G'!AA74","v":368},{"$f":"'[1]Données reclassées 2G'!AB74","v":388},{"$f":"'[1]Données reclassées 2G'!AC74","v":385},null,{"$f":"'[1]Données reclassées 3G '!P74","v":242},{"$f":"'[1]Données reclassées 3G '!Q74","v":233},{"$f":"'[1]Données reclassées 3G '!Z74","v":236},{"$f":"'[1]Données reclassées 3G '!AA74","v":210},{"$f":"'[1]Données reclassées 3G '!AB74","v":351},{"$f":"'[1]Données reclassées 3G '!AC74","v":331},null,{"$f":"'[1]Données reclassées 4G'!P74","v":79},{"$f":"'[1]Données reclassées 4G'!Q74","v":41},{"$f":"'[1]Données reclassées 4G'!T74","v":27},{"$f":"'[1]Données reclassées 4G'!U74","v":21},{"$f":"'[1]Données reclassées 4G'!AB74","v":56},{"$f":"'[1]Données reclassées 4G'!AC74","v":45},{"$f":"'[1]Données reclassées 4G'!AD74","v":134},{"$f":"'[1]Données reclassées 4G'!AE74","v":90}]
[null,72,"Sarthe",{"$f":"'[1]Données reclassées 2G'!P75","v":115},{"$f":"'[1]Données reclassées 2G'!Q75","v":109},{"$f":"'[1]Données reclassées 2G'!Z75","v":308},{"$f":"'[1]Données reclassées 2G'!AA75","v":299},{"$f":"'[1]Données reclassées 2G'!AB75","v":330},{"$f":"'[1]Données reclassées 2G'!AC75","v":320},null,{"$f":"'[1]Données reclassées 3G '!P75","v":254},{"$f":"'[1]Données reclassées 3G '!Q75","v":241},{"$f":"'[1]Données reclassées 3G '!Z75","v":228},{"$f":"'[1]Données reclassées 3G '!AA75","v":206},{"$f":"'[1]Données reclassées 3G '!AB75","v":334},{"$f":"'[1]Données reclassées 3G '!AC75","v":314},null,{"$f":"'[1]Données reclassées 4G'!P75","v":95},{"$f":"'[1]Données reclassées 4G'!Q75","v":58},{"$f":"'[1]Données reclassées 4G'!T75","v":51},{"$f":"'[1]Données reclassées 4G'!U75","v":45},{"$f":"'[1]Données reclassées 4G'!AB75","v":79},{"$f":"'[1]Données reclassées 4G'!AC75","v":55},{"$f":"'[1]Données reclassées 4G'!AD75","v":145},{"$f":"'[1]Données reclassées 4G'!AE75","v":120}]
[null,73,"Savoie",{"$f":"'[1]Données reclassées 2G'!P76","v":183},{"$f":"'[1]Données reclassées 2G'!Q76","v":174},{"$f":"'[1]Données reclassées 2G'!Z76","v":390},{"$f":"'[1]Données reclassées 2G'!AA76","v":382},{"$f":"'[1]Données reclassées 2G'!AB76","v":425},{"$f":"'[1]Données reclassées 2G'!AC76","v":417},null,{"$f":"'[1]Données reclassées 3G '!P76","v":408},{"$f":"'[1]Données reclassées 3G '!Q76","v":397},{"$f":"'[1]Données reclassées 3G '!Z76","v":149},{"$f":"'[1]Données reclassées 3G '!AA76","v":125},{"$f":"'[1]Données reclassées 3G '!AB76","v":431},{"$f":"'[1]Données reclassées 3G '!AC76","v":419},null,{"$f":"'[1]Données reclassées 4G'!P76","v":141},{"$f":"'[1]Données reclassées 4G'!Q76","v":76},{"$f":"'[1]Données reclassées 4G'!T76","v":71},{"$f":"'[1]Données reclassées 4G'!U76","v":57},{"$f":"'[1]Données reclassées 4G'!AB76","v":72},{"$f":"'[1]Données reclassées 4G'!AC76","v":42},{"$f":"'[1]Données reclassées 4G'!AD76","v":197},{"$f":"'[1]Données reclassées 4G'!AE76","v":155}]
[null,74,"Haute-Savoie",{"$f":"'[1]Données reclassées 2G'!P77","v":298},{"$f":"'[1]Données reclassées 2G'!Q77","v":289},{"$f":"'[1]Données reclassées 2G'!Z77","v":465},{"$f":"'[1]Données reclassées 2G'!AA77","v":458},{"$f":"'[1]Données reclassées 2G'!AB77","v":529},{"$f":"'[1]Données reclassées 2G'!AC77","v":521},null,{"$f":"'[1]Données reclassées 3G '!P77","v":534},{"$f":"'[1]Données reclassées 3G '!Q77","v":519},{"$f":"'[1]Données reclassées 3G '!Z77","v":118},{"$f":"'[1]Données reclassées 3G '!AA77","v":90},{"$f":"'[1]Données reclassées 3G '!AB77","v":543},{"$f":"'[1]Données reclassées 3G '!AC77","v":526},null,{"$f":"'[1]Données reclassées 4G'!P77","v":213},{"$f":"'[1]Données reclassées 4G'!Q77","v":149},{"$f":"'[1]Données reclassées 4G'!T77","v":69},{"$f":"'[1]Données reclassées 4G'!U77","v":50},{"$f":"'[1]Données reclassées 4G'!AB77","v":102},{"$f":"'[1]Données reclassées 4G'!AC77","v":68},{"$f":"'[1]Données reclassées 4G'!AD77","v":265},{"$f":"'[1]Données reclassées 4G'!AE77","v":215}]
[null,75,"Paris",{"$f":"'[1]Données reclassées 2G'!P78","v":1048},{"$f":"'[1]Données reclassées 2G'!Q78","v":974},{"$f":"'[1]Données reclassées 2G'!Z78","v":941},{"$f":"'[1]Données reclassées 2G'!AA78","v":784},{"$f":"'[1]Données reclassées 2G'!AB78","v":1168},{"$f":"'[1]Données reclassées 2G'!AC78","v":1100},null,{"$f":"'[1]Données reclassées 3G '!P78","v":1291},{"$f":"'[1]Données reclassées 3G '!Q78","v":1197},{"$f":"'[1]Données reclassées 3G '!Z78","v":967},{"$f":"'[1]Données reclassées 3G '!AA78","v":798},{"$f":"'[1]Données reclassées 3G '!AB78","v":1296},{"$f":"'[1]Données reclassées 3G '!AC78","v":1213},null,{"$f":"'[1]Données reclassées 4G'!P78","v":1053},{"$f":"'[1]Données reclassées 4G'!Q78","v":815},{"$f":"'[1]Données reclassées 4G'!T78","v":478},{"$f":"'[1]Données reclassées 4G'!U78","v":435},{"$f":"'[1]Données reclassées 4G'!AB78","v":744},{"$f":"'[1]Données reclassées 4G'!AC78","v":494},{"$f":"'[1]Données reclassées 4G'!AD78","v":1134},{"$f":"'[1]Données reclassées 4G'!AE78","v":1047}]
[null,76,"Seine-Maritime",{"$f":"'[1]Données reclassées 2G'!P79","v":330},{"$f":"'[1]Données reclassées 2G'!Q79","v":313},{"$f":"'[1]Données reclassées 2G'!Z79","v":490},{"$f":"'[1]Données reclassées 2G'!AA79","v":466},{"$f":"'[1]Données reclassées 2G'!AB79","v":575},{"$f":"'[1]Données reclassées 2G'!AC79","v":551},null,{"$f":"'[1]Données reclassées 3G '!P79","v":539},{"$f":"'[1]Données reclassées 3G '!Q79","v":507},{"$f":"'[1]Données reclassées 3G '!Z79","v":392},{"$f":"'[1]Données reclassées 3G '!AA79","v":331},{"$f":"'[1]Données reclassées 3G '!AB79","v":615},{"$f":"'[1]Données reclassées 3G '!AC79","v":578},null,{"$f":"'[1]Données reclassées 4G'!P79","v":259},{"$f":"'[1]Données reclassées 4G'!Q79","v":170},{"$f":"'[1]Données reclassées 4G'!T79","v":153},{"$f":"'[1]Données reclassées 4G'!U79","v":141},{"$f":"'[1]Données reclassées 4G'!AB79","v":236},{"$f":"'[1]Données reclassées 4G'!AC79","v":160},{"$f":"'[1]Données reclassées 4G'!AD79","v":393},{"$f":"'[1]Données reclassées 4G'!AE79","v":338}]
[null,77,"Seine-et-Marne",{"$f":"'[1]Données reclassées 2G'!P80","v":339},{"$f":"'[1]Données reclassées 2G'!Q80","v":304},{"$f":"'[1]Données reclassées 2G'!Z80","v":670},{"$f":"'[1]Données reclassées 2G'!AA80","v":641},{"$f":"'[1]Données reclassées 2G'!AB80","v":699},{"$f":"'[1]Données reclassées 2G'!AC80","v":674},null,{"$f":"'[1]Données reclassées 3G '!P80","v":694},{"$f":"'[1]Données reclassées 3G '!Q80","v":668},{"$f":"'[1]Données reclassées 3G '!Z80","v":381},{"$f":"'[1]Données reclassées 3G '!AA80","v":235},{"$f":"'[1]Données reclassées 3G '!AB80","v":740},{"$f":"'[1]Données reclassées 3G '!AC80","v":705},null,{"$f":"'[1]Données reclassées 4G'!P80","v":248},{"$f":"'[1]Données reclassées 4G'!Q80","v":172},{"$f":"'[1]Données reclassées 4G'!T80","v":140},{"$f":"'[1]Données reclassées 4G'!U80","v":112},{"$f":"'[1]Données reclassées 4G'!AB80","v":265},{"$f":"'[1]Données reclassées 4G'!AC80","v":178},{"$f":"'[1]Données reclassées 4G'!AD80","v":400},{"$f":"'[1]Données reclassées 4G'!AE80","v":306}]
[null,78,"Yvelines",{"$f":"'[1]Données reclassées 2G'!P81","v":427},{"$f":"'[1]Données reclassées 2G'!Q81","v":398},{"$f":"'[1]Données reclassées 2G'!Z81","v":589},{"$f":"'[1]Données reclassées 2G'!AA81","v":539},{"$f":"'[1]Données reclassées 2G'!AB81","v":642},{"$f":"'[1]Données reclassées 2G'!AC81","v":610},null,{"$f":"'[1]Données reclassées 3G '!P81","v":689},{"$f":"'[1]Données reclassées 3G '!Q81","v":647},{"$f":"'[1]Données reclassées 3G '!Z81","v":393},{"$f":"'[1]Données reclassées 3G '!AA81","v":229},{"$f":"'[1]Données reclassées 3G '!AB81","v":695},{"$f":"'[1]Données reclassées 3G '!AC81","v":653},null,{"$f":"'[1]Données reclassées 4G'!P81","v":316},{"$f":"'[1]Données reclassées 4G'!Q81","v":204},{"$f":"'[1]Données reclassées 4G'!T81","v":195},{"$f":"'[1]Données reclassées 4G'!U81","v":165},{"$f":"'[1]Données reclassées 4G'!AB81","v":360},{"$f":"'[1]Données reclassées 4G'!AC81","v":242},{"$f":"'[1]Données reclassées 4G'!AD81","v":473},{"$f":"'[1]Données reclassées 4G'!AE81","v":385}]
[null,79,"Deux-Sèvres",{"$f":"'[1]Données reclassées 2G'!P82","v":58},{"$f":"'[1]Données reclassées 2G'!Q82","v":57},{"$f":"'[1]Données reclassées 2G'!Z82","v":177},{"$f":"'[1]Données reclassées 2G'!AA82","v":173},{"$f":"'[1]Données reclassées 2G'!AB82","v":185},{"$f":"'[1]Données reclassées 2G'!AC82","v":181},null,{"$f":"'[1]Données reclassées 3G '!P82","v":122},{"$f":"'[1]Données reclassées 3G '!Q82","v":116},{"$f":"'[1]Données reclassées 3G '!Z82","v":153},{"$f":"'[1]Données reclassées 3G '!AA82","v":144},{"$f":"'[1]Données reclassées 3G '!AB82","v":186},{"$f":"'[1]Données reclassées 3G '!AC82","v":179},null,{"$f":"'[1]Données reclassées 4G'!P82","v":35},{"$f":"'[1]Données reclassées 4G'!Q82","v":15},{"$f":"'[1]Données reclassées 4G'!T82","v":21},{"$f":"'[1]Données reclassées 4G'!U82","v":21},{"$f":"'[1]Données reclassées 4G'!AB82","v":18},{"$f":"'[1]Données reclassées 4G'!AC82","v":16},{"$f":"'[1]Données reclassées 4G'!AD82","v":60},{"$f":"'[1]Données reclassées 4G'!AE82","v":43}]
[null,80,"Somme",{"$f":"'[1]Données reclassées 2G'!P83","v":91},{"$f":"'[1]Données reclassées 2G'!Q83","v":87},{"$f":"'[1]Données reclassées 2G'!Z83","v":306},{"$f":"'[1]Données reclassées 2G'!AA83","v":302},{"$f":"'[1]Données reclassées 2G'!AB83","v":321},{"$f":"'[1]Données reclassées 2G'!AC83","v":316},null,{"$f":"'[1]Données reclassées 3G '!P83","v":231},{"$f":"'[1]Données reclassées 3G '!Q83","v":226},{"$f":"'[1]Données reclassées 3G '!Z83","v":227},{"$f":"'[1]Données reclassées 3G '!AA83","v":218},{"$f":"'[1]Données reclassées 3G '!AB83","v":327},{"$f":"'[1]Données reclassées 3G '!AC83","v":321},null,{"$f":"'[1]Données reclassées 4G'!P83","v":61},{"$f":"'[1]Données reclassées 4G'!Q83","v":43},{"$f":"'[1]Données reclassées 4G'!T83","v":34},{"$f":"'[1]Données reclassées 4G'!U83","v":28},{"$f":"'[1]Données reclassées 4G'!AB83","v":42},{"$f":"'[1]Données reclassées 4G'!AC83","v":35},{"$f":"'[1]Données reclassées 4G'!AD83","v":104},{"$f":"'[1]Données reclassées 4G'!AE83","v":83}]
[null,81,"Tarn",{"$f":"'[1]Données reclassées 2G'!P84","v":68},{"$f":"'[1]Données reclassées 2G'!Q84","v":67},{"$f":"'[1]Données reclassées 2G'!Z84","v":242},{"$f":"'[1]Données reclassées 2G'!AA84","v":233},{"$f":"'[1]Données reclassées 2G'!AB84","v":255},{"$f":"'[1]Données reclassées 2G'!AC84","v":246},null,{"$f":"'[1]Données reclassées 3G '!P84","v":182},{"$f":"'[1]Données reclassées 3G '!Q84","v":175},{"$f":"'[1]Données reclassées 3G '!Z84","v":166},{"$f":"'[1]Données reclassées 3G '!AA84","v":148},{"$f":"'[1]Données reclassées 3G '!AB84","v":239},{"$f":"'[1]Données reclassées 3G '!AC84","v":228},null,{"$f":"'[1]Données reclassées 4G'!P84","v":60},{"$f":"'[1]Données reclassées 4G'!Q84","v":33},{"$f":"'[1]Données reclassées 4G'!T84","v":34},{"$f":"'[1]Données reclassées 4G'!U84","v":30},{"$f":"'[1]Données reclassées 4G'!AB84","v":27},{"$f":"'[1]Données reclassées 4G'!AC84","v":24},{"$f":"'[1]Données reclassées 4G'!AD84","v":90},{"$f":"'[1]Données reclassées 4G'!AE84","v":67}]
[null,82,"Tarn-et-Garonne",{"$f":"'[1]Données reclassées 2G'!P85","v":49},{"$f":"'[1]Données reclassées 2G'!Q85","v":48},{"$f":"'[1]Données reclassées 2G'!Z85","v":140},{"$f":"'[1]Données reclassées 2G'!AA85","v":136},{"$f":"'[1]Données reclassées 2G'!AB85","v":149},{"$f":"'[1]Données reclassées 2G'!AC85","v":145},null,{"$f":"'[1]Données reclassées 3G '!P85","v":103},{"$f":"'[1]Données reclassées 3G '!Q85","v":99},{"$f":"'[1]Données reclassées 3G '!Z85","v":104},{"$f":"'[1]Données reclassées 3G '!AA85","v":96},{"$f":"'[1]Données reclassées 3G '!AB85","v":150},{"$f":"'[1]Données reclassées 3G '!AC85","v":145},null,{"$f":"'[1]Données reclassées 4G'!P85","v":33},{"$f":"'[1]Données reclassées 4G'!Q85","v":23},{"$f":"'[1]Données reclassées 4G'!T85","v":19},{"$f":"'[1]Données reclassées 4G'!U85","v":18},{"$f":"'[1]Données reclassées 4G'!AB85","v":12},{"$f":"'[1]Données reclassées 4G'!AC85","v":8},{"$f":"'[1]Données reclassées 4G'!AD85","v":51},{"$f":"'[1]Données reclassées 4G'!AE85","v":39}]
[null,83,"Var",{"$f":"'[1]Données reclassées 2G'!P86","v":393},{"$f":"'[1]Données reclassées 2G'!Q86","v":377},{"$f":"'[1]Données reclassées 2G'!Z86","v":709},{"$f":"'[1]Données reclassées 2G'!AA86","v":693},{"$f":"'[1]Données reclassées 2G'!AB86","v":789},{"$f":"'[1]Données reclassées 2G'!AC86","v":774},null,{"$f":"'[1]Données reclassées 3G '!P86","v":750},{"$f":"'[1]Données reclassées 3G '!Q86","v":722},{"$f":"'[1]Données reclassées 3G '!Z86","v":491},{"$f":"'[1]Données reclassées 3G '!AA86","v":356},{"$f":"'[1]Données reclassées 3G '!AB86","v":787},{"$f":"'[1]Données reclassées 3G '!AC86","v":747},null,{"$f":"'[1]Données reclassées 4G'!P86","v":295},{"$f":"'[1]Données reclassées 4G'!Q86","v":211},{"$f":"'[1]Données reclassées 4G'!T86","v":166},{"$f":"'[1]Données reclassées 4G'!U86","v":149},{"$f":"'[1]Données reclassées 4G'!AB86","v":281},{"$f":"'[1]Données reclassées 4G'!AC86","v":252},{"$f":"'[1]Données reclassées 4G'!AD86","v":486},{"$f":"'[1]Données reclassées 4G'!AE86","v":419}]
[null,84,"Vaucluse",{"$f":"'[1]Données reclassées 2G'!P87","v":152},{"$f":"'[1]Données reclassées 2G'!Q87","v":143},{"$f":"'[1]Données reclassées 2G'!Z87","v":324},{"$f":"'[1]Données reclassées 2G'!AA87","v":307},{"$f":"'[1]Données reclassées 2G'!AB87","v":358},{"$f":"'[1]Données reclassées 2G'!AC87","v":346},null,{"$f":"'[1]Données reclassées 3G '!P87","v":344},{"$f":"'[1]Données reclassées 3G '!Q87","v":329},{"$f":"'[1]Données reclassées 3G '!Z87","v":193},{"$f":"'[1]Données reclassées 3G '!AA87","v":152},{"$f":"'[1]Données reclassées 3G '!AB87","v":354},{"$f":"'[1]Données reclassées 3G '!AC87","v":334},null,{"$f":"'[1]Données reclassées 4G'!P87","v":112},{"$f":"'[1]Données reclassées 4G'!Q87","v":74},{"$f":"'[1]Données reclassées 4G'!T87","v":81},{"$f":"'[1]Données reclassées 4G'!U87","v":72},{"$f":"'[1]Données reclassées 4G'!AB87","v":168},{"$f":"'[1]Données reclassées 4G'!AC87","v":137},{"$f":"'[1]Données reclassées 4G'!AD87","v":238},{"$f":"'[1]Données reclassées 4G'!AE87","v":199}]
[null,85,"Vendée",{"$f":"'[1]Données reclassées 2G'!P88","v":130},{"$f":"'[1]Données reclassées 2G'!Q88","v":130},{"$f":"'[1]Données reclassées 2G'!Z88","v":310},{"$f":"'[1]Données reclassées 2G'!AA88","v":307},{"$f":"'[1]Données reclassées 2G'!AB88","v":339},{"$f":"'[1]Données reclassées 2G'!AC88","v":336},null,{"$f":"'[1]Données reclassées 3G '!P88","v":278},{"$f":"'[1]Données reclassées 3G '!Q88","v":273},{"$f":"'[1]Données reclassées 3G '!Z88","v":183},{"$f":"'[1]Données reclassées 3G '!AA88","v":162},{"$f":"'[1]Données reclassées 3G '!AB88","v":346},{"$f":"'[1]Données reclassées 3G '!AC88","v":336},null,{"$f":"'[1]Données reclassées 4G'!P88","v":109},{"$f":"'[1]Données reclassées 4G'!Q88","v":72},{"$f":"'[1]Données reclassées 4G'!T88","v":57},{"$f":"'[1]Données reclassées 4G'!U88","v":54},{"$f":"'[1]Données reclassées 4G'!AB88","v":66},{"$f":"'[1]Données reclassées 4G'!AC88","v":46},{"$f":"'[1]Données reclassées 4G'!AD88","v":164},{"$f":"'[1]Données reclassées 4G'!AE88","v":127}]
[null,86,"Vienne",{"$f":"'[1]Données reclassées 2G'!P89","v":97},{"$f":"'[1]Données reclassées 2G'!Q89","v":97},{"$f":"'[1]Données reclassées 2G'!Z89","v":243},{"$f":"'[1]Données reclassées 2G'!AA89","v":240},{"$f":"'[1]Données reclassées 2G'!AB89","v":260},{"$f":"'[1]Données reclassées 2G'!AC89","v":257},null,{"$f":"'[1]Données reclassées 3G '!P89","v":180},{"$f":"'[1]Données reclassées 3G '!Q89","v":175},{"$f":"'[1]Données reclassées 3G '!Z89","v":161},{"$f":"'[1]Données reclassées 3G '!AA89","v":149},{"$f":"'[1]Données reclassées 3G '!AB89","v":246},{"$f":"'[1]Données reclassées 3G '!AC89","v":235},null,{"$f":"'[1]Données reclassées 4G'!P89","v":61},{"$f":"'[1]Données reclassées 4G'!Q89","v":41},{"$f":"'[1]Données reclassées 4G'!T89","v":44},{"$f":"'[1]Données reclassées 4G'!U89","v":43},{"$f":"'[1]Données reclassées 4G'!AB89","v":23},{"$f":"'[1]Données reclassées 4G'!AC89","v":21},{"$f":"'[1]Données reclassées 4G'!AD89","v":93},{"$f":"'[1]Données reclassées 4G'!AE89","v":81}]
[null,87,"Haute-Vienne",{"$f":"'[1]Données reclassées 2G'!P90","v":93},{"$f":"'[1]Données reclassées 2G'!Q90","v":91},{"$f":"'[1]Données reclassées 2G'!Z90","v":235},{"$f":"'[1]Données reclassées 2G'!AA90","v":233},{"$f":"'[1]Données reclassées 2G'!AB90","v":262},{"$f":"'[1]Données reclassées 2G'!AC90","v":261},null,{"$f":"'[1]Données reclassées 3G '!P90","v":191},{"$f":"'[1]Données reclassées 3G '!Q90","v":178},{"$f":"'[1]Données reclassées 3G '!Z90","v":191},{"$f":"'[1]Données reclassées 3G '!AA90","v":181},{"$f":"'[1]Données reclassées 3G '!AB90","v":274},{"$f":"'[1]Données reclassées 3G '!AC90","v":264},null,{"$f":"'[1]Données reclassées 4G'!P90","v":73},{"$f":"'[1]Données reclassées 4G'!Q90","v":39},{"$f":"'[1]Données reclassées 4G'!T90","v":36},{"$f":"'[1]Données reclassées 4G'!U90","v":35},{"$f":"'[1]Données reclassées 4G'!AB90","v":25},{"$f":"'[1]Données reclassées 4G'!AC90","v":23},{"$f":"'[1]Données reclassées 4G'!AD90","v":107},{"$f":"'[1]Données reclassées 4G'!AE90","v":80}]
[null,88,"Vosges",{"$f":"'[1]Données reclassées 2G'!P91","v":76},{"$f":"'[1]Données reclassées 2G'!Q91","v":71},{"$f":"'[1]Données reclassées 2G'!Z91","v":250},{"$f":"'[1]Données reclassées 2G'!AA91","v":244},{"$f":"'[1]Données reclassées 2G'!AB91","v":269},{"$f":"'[1]Données reclassées 2G'!AC91","v":262},null,{"$f":"'[1]Données reclassées 3G '!P91","v":180},{"$f":"'[1]Données reclassées 3G '!Q91","v":174},{"$f":"'[1]Données reclassées 3G '!Z91","v":215},{"$f":"'[1]Données reclassées 3G '!AA91","v":196},{"$f":"'[1]Données reclassées 3G '!AB91","v":273},{"$f":"'[1]Données reclassées 3G '!AC91","v":256},null,{"$f":"'[1]Données reclassées 4G'!P91","v":65},{"$f":"'[1]Données reclassées 4G'!Q91","v":51},{"$f":"'[1]Données reclassées 4G'!T91","v":16},{"$f":"'[1]Données reclassées 4G'!U91","v":14},{"$f":"'[1]Données reclassées 4G'!AB91","v":29},{"$f":"'[1]Données reclassées 4G'!AC91","v":25},{"$f":"'[1]Données reclassées 4G'!AD91","v":92},{"$f":"'[1]Données reclassées 4G'!AE91","v":81}]
[null,89,"Yonne",{"$f":"'[1]Données reclassées 2G'!P92","v":123},{"$f":"'[1]Données reclassées 2G'!Q92","v":121},{"$f":"'[1]Données reclassées 2G'!Z92","v":319},{"$f":"'[1]Données reclassées 2G'!AA92","v":314},{"$f":"'[1]Données reclassées 2G'!AB92","v":330},{"$f":"'[1]Données reclassées 2G'!AC92","v":325},null,{"$f":"'[1]Données reclassées 3G '!P92","v":128},{"$f":"'[1]Données reclassées 3G '!Q92","v":111},{"$f":"'[1]Données reclassées 3G '!Z92","v":245},{"$f":"'[1]Données reclassées 3G '!AA92","v":218},{"$f":"'[1]Données reclassées 3G '!AB92","v":278},{"$f":"'[1]Données reclassées 3G '!AC92","v":254},null,{"$f":"'[1]Données reclassées 4G'!P92","v":41},{"$f":"'[1]Données reclassées 4G'!Q92","v":17},{"$f":"'[1]Données reclassées 4G'!T92","v":1},{"$f":"'[1]Données reclassées 4G'!U92","v":0},{"$f":"'[1]Données reclassées 4G'!AB92","v":38},{"$f":"'[1]Données reclassées 4G'!AC92","v":24},{"$f":"'[1]Données reclassées 4G'!AD92","v":74},{"$f":"'[1]Données reclassées 4G'!AE92","v":37}]
[null,90,"Territoire-de-Belfort",{"$f":"'[1]Données reclassées 2G'!P93","v":31},{"$f":"'[1]Données reclassées 2G'!Q93","v":30},{"$f":"'[1]Données reclassées 2G'!Z93","v":60},{"$f":"'[1]Données reclassées 2G'!AA93","v":56},{"$f":"'[1]Données reclassées 2G'!AB93","v":65},{"$f":"'[1]Données reclassées 2G'!AC93","v":61},null,{"$f":"'[1]Données reclassées 3G '!P93","v":64},{"$f":"'[1]Données reclassées 3G '!Q93","v":62},{"$f":"'[1]Données reclassées 3G '!Z93","v":36},{"$f":"'[1]Données reclassées 3G '!AA93","v":31},{"$f":"'[1]Données reclassées 3G '!AB93","v":68},{"$f":"'[1]Données reclassées 3G '!AC93","v":65},null,{"$f":"'[1]Données reclassées 4G'!P93","v":32},{"$f":"'[1]Données reclassées 4G'!Q93","v":23},{"$f":"'[1]Données reclassées 4G'!T93","v":9},{"$f":"'[1]Données reclassées 4G'!U93","v":9},{"$f":"'[1]Données reclassées 4G'!AB93","v":12},{"$f":"'[1]Données reclassées 4G'!AC93","v":8},{"$f":"'[1]Données reclassées 4G'!AD93","v":36},{"$f":"'[1]Données reclassées 4G'!AE93","v":32}]
[null,91,"Essonne",{"$f":"'[1]Données reclassées 2G'!P94","v":372},{"$f":"'[1]Données reclassées 2G'!Q94","v":336},{"$f":"'[1]Données reclassées 2G'!Z94","v":472},{"$f":"'[1]Données reclassées 2G'!AA94","v":432},{"$f":"'[1]Données reclassées 2G'!AB94","v":510},{"$f":"'[1]Données reclassées 2G'!AC94","v":480},null,{"$f":"'[1]Données reclassées 3G '!P94","v":567},{"$f":"'[1]Données reclassées 3G '!Q94","v":537},{"$f":"'[1]Données reclassées 3G '!Z94","v":389},{"$f":"'[1]Données reclassées 3G '!AA94","v":224},{"$f":"'[1]Données reclassées 3G '!AB94","v":571},{"$f":"'[1]Données reclassées 3G '!AC94","v":542},null,{"$f":"'[1]Données reclassées 4G'!P94","v":314},{"$f":"'[1]Données reclassées 4G'!Q94","v":191},{"$f":"'[1]Données reclassées 4G'!T94","v":165},{"$f":"'[1]Données reclassées 4G'!U94","v":141},{"$f":"'[1]Données reclassées 4G'!AB94","v":318},{"$f":"'[1]Données reclassées 4G'!AC94","v":229},{"$f":"'[1]Données reclassées 4G'!AD94","v":439},{"$f":"'[1]Données reclassées 4G'!AE94","v":369}]
[null,92,"Hauts-de-Seine",{"$f":"'[1]Données reclassées 2G'!P95","v":552},{"$f":"'[1]Données reclassées 2G'!Q95","v":513},{"$f":"'[1]Données reclassées 2G'!Z95","v":547},{"$f":"'[1]Données reclassées 2G'!AA95","v":479},{"$f":"'[1]Données reclassées 2G'!AB95","v":615},{"$f":"'[1]Données reclassées 2G'!AC95","v":582},null,{"$f":"'[1]Données reclassées 3G '!P95","v":658},{"$f":"'[1]Données reclassées 3G '!Q95","v":624},{"$f":"'[1]Données reclassées 3G '!Z95","v":550},{"$f":"'[1]Données reclassées 3G '!AA95","v":464},{"$f":"'[1]Données reclassées 3G '!AB95","v":662},{"$f":"'[1]Données reclassées 3G '!AC95","v":629},null,{"$f":"'[1]Données reclassées 4G'!P95","v":459},{"$f":"'[1]Données reclassées 4G'!Q95","v":344},{"$f":"'[1]Données reclassées 4G'!T95","v":231},{"$f":"'[1]Données reclassées 4G'!U95","v":211},{"$f":"'[1]Données reclassées 4G'!AB95","v":418},{"$f":"'[1]Données reclassées 4G'!AC95","v":295},{"$f":"'[1]Données reclassées 4G'!AD95","v":585},{"$f":"'[1]Données reclassées 4G'!AE95","v":542}]
[null,93,"Seine-Saint-Denis",{"$f":"'[1]Données reclassées 2G'!P96","v":556},{"$f":"'[1]Données reclassées 2G'!Q96","v":505},{"$f":"'[1]Données reclassées 2G'!Z96","v":568},{"$f":"'[1]Données reclassées 2G'!AA96","v":483},{"$f":"'[1]Données reclassées 2G'!AB96","v":627},{"$f":"'[1]Données reclassées 2G'!AC96","v":574},null,{"$f":"'[1]Données reclassées 3G '!P96","v":739},{"$f":"'[1]Données reclassées 3G '!Q96","v":697},{"$f":"'[1]Données reclassées 3G '!Z96","v":556},{"$f":"'[1]Données reclassées 3G '!AA96","v":414},{"$f":"'[1]Données reclassées 3G '!AB96","v":740},{"$f":"'[1]Données reclassées 3G '!AC96","v":700},null,{"$f":"'[1]Données reclassées 4G'!P96","v":458},{"$f":"'[1]Données reclassées 4G'!Q96","v":335},{"$f":"'[1]Données reclassées 4G'!T96","v":181},{"$f":"'[1]Données reclassées 4G'!U96","v":155},{"$f":"'[1]Données reclassées 4G'!AB96","v":388},{"$f":"'[1]Données reclassées 4G'!AC96","v":246},{"$f":"'[1]Données reclassées 4G'!AD96","v":604},{"$f":"'[1]Données reclassées 4G'!AE96","v":522}]
[null,94,"Val-de-Marne",{"$f":"'[1]Données reclassées 2G'!P97","v":440},{"$f":"'[1]Données reclassées 2G'!Q97","v":410},{"$f":"'[1]Données reclassées 2G'!Z97","v":432},{"$f":"'[1]Données reclassées 2G'!AA97","v":385},{"$f":"'[1]Données reclassées 2G'!AB97","v":492},{"$f":"'[1]Données reclassées 2G'!AC97","v":467},null,{"$f":"'[1]Données reclassées 3G '!P97","v":562},{"$f":"'[1]Données reclassées 3G '!Q97","v":528},{"$f":"'[1]Données reclassées 3G '!Z97","v":434},{"$f":"'[1]Données reclassées 3G '!AA97","v":317},{"$f":"'[1]Données reclassées 3G '!AB97","v":565},{"$f":"'[1]Données reclassées 3G '!AC97","v":537},null,{"$f":"'[1]Données reclassées 4G'!P97","v":338},{"$f":"'[1]Données reclassées 4G'!Q97","v":234},{"$f":"'[1]Données reclassées 4G'!T97","v":160},{"$f":"'[1]Données reclassées 4G'!U97","v":137},{"$f":"'[1]Données reclassées 4G'!AB97","v":305},{"$f":"'[1]Données reclassées 4G'!AC97","v":192},{"$f":"'[1]Données reclassées 4G'!AD97","v":461},{"$f":"'[1]Données reclassées 4G'!AE97","v":387}]
[null,95,"Val-d'Oise",{"$f":"'[1]Données reclassées 2G'!P98","v":325},{"$f":"'[1]Données reclassées 2G'!Q98","v":304},{"$f":"'[1]Données reclassées 2G'!Z98","v":398},{"$f":"'[1]Données reclassées 2G'!AA98","v":366},{"$f":"'[1]Données reclassées 2G'!AB98","v":430},{"$f":"'[1]Données reclassées 2G'!AC98","v":409},null,{"$f":"'[1]Données reclassées 3G '!P98","v":489},{"$f":"'[1]Données reclassées 3G '!Q98","v":467},{"$f":"'[1]Données reclassées 3G '!Z98","v":272},{"$f":"'[1]Données reclassées 3G '!AA98","v":162},{"$f":"'[1]Données reclassées 3G '!AB98","v":490},{"$f":"'[1]Données reclassées 3G '!AC98","v":468},null,{"$f":"'[1]Données reclassées 4G'!P98","v":258},{"$f":"'[1]Données reclassées 4G'!Q98","v":165},{"$f":"'[1]Données reclassées 4G'!T98","v":133},{"$f":"'[1]Données reclassées 4G'!U98","v":117},{"$f":"'[1]Données reclassées 4G'!AB98","v":255},{"$f":"'[1]Données reclassées 4G'!AC98","v":178},{"$f":"'[1]Données reclassées 4G'!AD98","v":361},{"$f":"'[1]Données reclassées 4G'!AE98","v":298}]
[null,null,"Total Métropole",{"$f":"'[1]Données reclassées 2G'!P99","v":17850},{"$f":"'[1]Données reclassées 2G'!Q99","v":17018},{"$f":"'[1]Données reclassées 2G'!Z99","v":34738},{"$f":"'[1]Données reclassées 2G'!AA99","v":33239},{"$f":"'[1]Données reclassées 2G'!AB99","v":38259},{"$f":"'[1]Données reclassées 2G'!AC99","v":37119},null,{"$f":"'[1]Données reclassées 3G '!P99","v":32406},{"$f":"'[1]Données reclassées 3G '!Q99","v":30916},{"$f":"'[1]Données reclassées 3G '!Z99","v":24727},{"$f":"'[1]Données reclassées 3G '!AA99","v":20089},{"$f":"'[1]Données reclassées 3G '!AB99","v":38748},{"$f":"'[1]Données reclassées 3G '!AC99","v":36631},null,{"$f":"'[1]Données reclassées 4G'!P99","v":14495},{"$f":"'[1]Données reclassées 4G'!Q99","v":10338},{"$f":"'[1]Données reclassées 4G'!T99","v":7007},{"$f":"'[1]Données reclassées 4G'!U99","v":6083},{"$f":"'[1]Données reclassées 4G'!AB99","v":11353},{"$f":"'[1]Données reclassées 4G'!AC99","v":8614},{"$f":"'[1]Données reclassées 4G'!AD99","v":20793},{"$f":"'[1]Données reclassées 4G'!AE99","v":17606}]
["OUTRE -MER",971,"Guadeloupe",{"$f":"'[1]Données reclassées 2G'!BL106","v":128},{"$f":"'[1]Données reclassées 2G'!BM106","v":122},{"$f":"'[1]Données reclassées 2G'!DB106","v":360},{"$f":"'[1]Données reclassées 2G'!DC106","v":322},{"$f":"'[1]Données reclassées 2G'!DD106","v":362},{"$f":"'[1]Données reclassées 2G'!DE106","v":324},null,{"$f":"'[1]Données reclassées 3G '!BI106","v":344},{"$f":"'[1]Données reclassées 3G '!BJ106","v":194},{"$f":"'[1]Données reclassées 3G '!CW106","v":0},{"$f":"'[1]Données reclassées 3G '!CX106","v":0},{"$f":"'[1]Données reclassées 3G '!CY106","v":344},{"$f":"'[1]Données reclassées 3G '!CZ106","v":194}]
[null,972,"Martinique",{"$f":"'[1]Données reclassées 2G'!BL107","v":188},{"$f":"'[1]Données reclassées 2G'!BM107","v":182},{"$f":"'[1]Données reclassées 2G'!DB107","v":322},{"$f":"'[1]Données reclassées 2G'!DC107","v":315},{"$f":"'[1]Données reclassées 2G'!DD107","v":357},{"$f":"'[1]Données reclassées 2G'!DE107","v":348},null,{"$f":"'[1]Données reclassées 3G '!BI107","v":331},{"$f":"'[1]Données reclassées 3G '!BJ107","v":216},{"$f":"'[1]Données reclassées 3G '!CW107","v":0},{"$f":"'[1]Données reclassées 3G '!CX107","v":0},{"$f":"'[1]Données reclassées 3G '!CY107","v":331},{"$f":"'[1]Données reclassées 3G '!CZ107","v":216}]
[null,973,"Guyane",{"$f":"'[1]Données reclassées 2G'!BL108","v":40},{"$f":"'[1]Données reclassées 2G'!BM108","v":36},{"$f":"'[1]Données reclassées 2G'!DB108","v":152},{"$f":"'[1]Données reclassées 2G'!DC108","v":148},{"$f":"'[1]Données reclassées 2G'!DD108","v":154},{"$f":"'[1]Données reclassées 2G'!DE108","v":149},null,{"$f":"'[1]Données reclassées 3G '!BI108","v":128},{"$f":"'[1]Données reclassées 3G '!BJ108","v":91},{"$f":"'[1]Données reclassées 3G '!CW108","v":3},{"$f":"'[1]Données reclassées 3G '!CX108","v":0},{"$f":"'[1]Données reclassées 3G '!CY108","v":131},{"$f":"'[1]Données reclassées 3G '!CZ108","v":91}]
[null,974,"Réunion",{"$f":"'[1]Données reclassées 2G'!BL109","v":448},{"$f":"'[1]Données reclassées 2G'!BM109","v":350},{"$f":"'[1]Données reclassées 2G'!DB109","v":768},{"$f":"'[1]Données reclassées 2G'!DC109","v":596},{"$f":"'[1]Données reclassées 2G'!DD109","v":778},{"$f":"'[1]Données reclassées 2G'!DE109","v":603},null,{"$f":"'[1]Données reclassées 3G '!BI109","v":631},{"$f":"'[1]Données reclassées 3G '!BJ109","v":591},{"$f":"'[1]Données reclassées 3G '!CW109","v":52},{"$f":"'[1]Données reclassées 3G '!CX109","v":5},{"$f":"'[1]Données reclassées 3G '!CY109","v":652},{"$f":"'[1]Données reclassées 3G '!CZ109","v":596}]
[null,975,"Saint-Pierre-et-Miquelon",{"$f":"'[1]Données reclassées 2G'!BL110","v":0},{"$f":"'[1]Données reclassées 2G'!BM110","v":0},{"$f":"'[1]Données reclassées 2G'!DB110","v":17},{"$f":"'[1]Données reclassées 2G'!DC110","v":5},{"$f":"'[1]Données reclassées 2G'!DD110","v":17},{"$f":"'[1]Données reclassées 2G'!DE110","v":5},null,{"$f":"'[1]Données reclassées 3G '!BI110","v":0},{"$f":"'[1]Données reclassées 3G '!BJ110","v":0},{"$f":"'[1]Données reclassées 3G '!CW110","v":0},{"$f":"'[1]Données reclassées 3G '!CX110","v":0},{"$f":"'[1]Données reclassées 3G '!CY110","v":0},{"$f":"'[1]Données reclassées 3G '!CZ110","v":0}]
[null,976,"Mayotte",{"$f":"'[1]Données reclassées 2G'!BL111","v":64},{"$f":"'[1]Données reclassées 2G'!BM111","v":32},{"$f":"'[1]Données reclassées 2G'!DB111","v":127},{"$f":"'[1]Données reclassées 2G'!DC111","v":94},{"$f":"'[1]Données reclassées 2G'!DD111","v":137},{"$f":"'[1]Données reclassées 2G'!DE111","v":102},null,{"$f":"'[1]Données reclassées 3G '!BI111","v":66},{"$f":"'[1]Données reclassées 3G '!BJ111","v":59},{"$f":"'[1]Données reclassées 3G '!CW111","v":12},{"$f":"'[1]Données reclassées 3G '!CX111","v":11},{"$f":"'[1]Données reclassées 3G '!CY111","v":75},{"$f":"'[1]Données reclassées 3G '!CZ111","v":68}]
[null,977,"Saint-Barthélémy",{"$f":"'[1]Données reclassées 2G'!BL112","v":3},{"$f":"'[1]Données reclassées 2G'!BM112","v":2},{"$f":"'[1]Données reclassées 2G'!DB112","v":24},{"$f":"'[1]Données reclassées 2G'!DC112","v":24},{"$f":"'[1]Données reclassées 2G'!DD112","v":24},{"$f":"'[1]Données reclassées 2G'!DE112","v":24},null,{"$f":"'[1]Données reclassées 3G '!BI112","v":12},{"$f":"'[1]Données reclassées 3G '!BJ112","v":7},{"$f":"'[1]Données reclassées 3G '!CW112","v":0},{"$f":"'[1]Données reclassées 3G '!CX112","v":0},{"$f":"'[1]Données reclassées 3G '!CY112","v":12},{"$f":"'[1]Données reclassées 3G '!CZ112","v":7}]
[null,978,"Saint-Martin",{"$f":"'[1]Données reclassées 2G'!BL113","v":21},{"$f":"'[1]Données reclassées 2G'!BM113","v":19},{"$f":"'[1]Données reclassées 2G'!DB113","v":47},{"$f":"'[1]Données reclassées 2G'!DC113","v":40},{"$f":"'[1]Données reclassées 2G'!DD113","v":50},{"$f":"'[1]Données reclassées 2G'!DE113","v":43},null,{"$f":"'[1]Données reclassées 3G '!BI113","v":40},{"$f":"'[1]Données reclassées 3G '!BJ113","v":27},{"$f":"'[1]Données reclassées 3G '!CW113","v":0},{"$f":"'[1]Données reclassées 3G '!CX113","v":0},{"$f":"'[1]Données reclassées 3G '!CY113","v":40},{"$f":"'[1]Données reclassées 3G '!CZ113","v":27}]
[null,987,"Polynésie française",{"$f":"'[1]Données reclassées 2G'!BL114","v":0},{"$f":"'[1]Données reclassées 2G'!BM114","v":0},{"$f":"'[1]Données reclassées 2G'!DB114","v":338},{"$f":"'[1]Données reclassées 2G'!DC114","v":293},{"$f":"'[1]Données reclassées 2G'!DD114","v":338},{"$f":"'[1]Données reclassées 2G'!DE114","v":293},null,{"$f":"'[1]Données reclassées 3G '!BI114","v":35},{"$f":"'[1]Données reclassées 3G '!BJ114","v":2},{"$f":"'[1]Données reclassées 3G '!CW114","v":39},{"$f":"'[1]Données reclassées 3G '!CX114","v":0},{"$f":"'[1]Données reclassées 3G '!CY114","v":60},{"$f":"'[1]Données reclassées 3G '!CZ114","v":2}]
[null,988,"Nouvelle Calédonie",{"$f":"'[1]Données reclassées 2G'!BL115","v":0},{"$f":"'[1]Données reclassées 2G'!BM115","v":0},{"$f":"'[1]Données reclassées 2G'!DB115","v":330},{"$f":"'[1]Données reclassées 2G'!DC115","v":328},{"$f":"'[1]Données reclassées 2G'!DD115","v":330},{"$f":"'[1]Données reclassées 2G'!DE115","v":328},null,{"$f":"'[1]Données reclassées 3G '!BI115","v":91},{"$f":"'[1]Données reclassées 3G '!BJ115","v":90},{"$f":"'[1]Données reclassées 3G '!CW115","v":237},{"$f":"'[1]Données reclassées 3G '!CX115","v":236},{"$f":"'[1]Données reclassées 3G '!CY115","v":327},{"$f":"'[1]Données reclassées 3G '!CZ115","v":325},null,{"$f":"'[1]Données reclassées 4G'!BI115","v":1},{"$f":"'[1]Données reclassées 4G'!BJ115","v":1},{"$f":"'[1]Données reclassées 4G'!DY115","v":77},{"$f":"'[1]Données reclassées 4G'!DZ115","v":77},{"$f":"'[1]Données reclassées 4G'!CW115","v":74},{"$f":"'[1]Données reclassées 4G'!CX115","v":35},{"$f":"'[1]Données reclassées 4G'!EM115","v":151},{"$f":"'[1]Données reclassées 4G'!EN115","v":112}]
["TOTAL NATIONAL",null,null,{"$f":"D103+SUM(D104:D113)","v":18742},17761,37223,35404,40806,39338,null,{"$f":"K103+SUM(K104:K113)","v":34084},32193,25070,20341,40720,38157,null,{"$f":"R103+SUM(R104:R113)","v":14496},10339,7084,6160,11427,8649,20944,17718]